BEGIN:VCALENDAR
VERSION:2.0
PRODID:-//ΑΝΙΜΑ - Σύλλογος Προστασίας και Περίθαλψης Άγριας Ζωής - ECPv6.15.12.2//NONSGML v1.0//EN
CALSCALE:GREGORIAN
METHOD:PUBLISH
X-WR-CALNAME:ΑΝΙΜΑ - Σύλλογος Προστασίας και Περίθαλψης Άγριας Ζωής
X-ORIGINAL-URL:https://www.wild-anima.gr
X-WR-CALDESC:Εκδηλώσεις
REFRESH-INTERVAL;VALUE=DURATION:PT1H
X-Robots-Tag:noindex
X-PUBLISHED-TTL:PT1H
BEGIN:VTIMEZONE
TZID:Europe/Athens
BEGIN:DAYLIGHT
TZOFFSETFROM:+0200
TZOFFSETTO:+0300
TZNAME:EEST
DTSTART:20250330T010000
END:DAYLIGHT
BEGIN:STANDARD
TZOFFSETFROM:+0300
TZOFFSETTO:+0200
TZNAME:EET
DTSTART:20251026T010000
END:STANDARD
BEGIN:DAYLIGHT
TZOFFSETFROM:+0200
TZOFFSETTO:+0300
TZNAME:EEST
DTSTART:20260329T010000
END:DAYLIGHT
BEGIN:STANDARD
TZOFFSETFROM:+0300
TZOFFSETTO:+0200
TZNAME:EET
DTSTART:20261025T010000
END:STANDARD
BEGIN:DAYLIGHT
TZOFFSETFROM:+0200
TZOFFSETTO:+0300
TZNAME:EEST
DTSTART:20270328T010000
END:DAYLIGHT
BEGIN:STANDARD
TZOFFSETFROM:+0300
TZOFFSETTO:+0200
TZNAME:EET
DTSTART:20271031T010000
END:STANDARD
END:VTIMEZONE
BEGIN:VEVENT
DTSTART;TZID=Europe/Athens:20260102T070000
DTEND;TZID=Europe/Athens:20260105T200000
DTSTAMP:20260422T142743
CREATED:20251201T102306Z
LAST-MODIFIED:20251201T102306Z
UID:35039-1767337200-1767643200@www.wild-anima.gr
SUMMARY:Κερκίνη - Δοϊράνη\, τετραήμερη εκδρομή 2-5/1/2026
DESCRIPTION:Αν υπάρχει ένας τόπος στη χώρα μας που μπορεί να χαρακτηριστεί «η πόλη των πουλιών»\, είναι η Κερκίνη. Το 1932 οι άνθρωποι δημιούργησαν έναν ταμιευτήρα για να συγκρατήσουν την ορμή του Στρυμόνα\, όμως τα πουλιά βρήκαν εκεί ένα νέο σπίτι. Η περιοχή μετατράπηκε σε ένα πλούσιο οικοσύστημα και έχει χαρακτηριστεί ως Υγρότοπος Διεθνούς Σημασίας και Εθνικό Πάρκο\, αποτελώντας μία από τις σημαντικότερες περιοχές για τα πουλιά της χώρας μας. \nΣήμερα\, η τεχνητή λίμνη Κερκίνη είναι ένας φυσικός παράδεισος. Δέχεται χιλιάδες επισκέπτες από όλο τον κόσμο\, που έρχονται με κάθε μέσο για να απολαύσουν όλα όσα προσφέρει. Οι πιο σημαντικοί όμως επισκέπτες έρχονται πετώντας: στην καρδιά του χειμώνα\, πάνω από 130 είδη πουλιών βρίσκουν εδώ καταλύματα και χώρο να τραφούν και να ξεχειμωνιάσουν. Η περίοδος αυτή είναι η πιο κατάλληλη εποχή να παρατηρήσουμε γερανούς\, αργυροπελεκάνους\, φοινικόπτερα και όλα τα είδη παπιών. Αδιαφιλονίκητες όμως σταρ του χειμώνα είναι οι σπάνιες νανόχηνες που μας έρχονται από τον αρκτικό κύκλο και τη Φινλανδία στην Ελλάδα και τις φιλοξενούμε αποκλειστικά στην Κερκίνη και στον Έβρο. \nΚαθ’ όλη τη διάρκεια της εκδρομής\, θα εξερευνήσουμε τις όχθες\, τα αναχώματα και τα υγρολίβαδα της Κερκίνης\, παρατηρώντας την άγρια ζωή στο χειμωνιάτικο ρυθμό της λίμνης. Η καθιερωμένη βαρκάδα θα μας φέρει –όσο επιτρέπεται– κοντά στους αργυροπελεκάνους στο κέντρο της λίμνης. Οι συγκινήσεις που θα νιώσουμε είναι έντονες\, αλλά πολλές και οι δυνατότητες φωτογράφισης\, μια και οι αργυροπελεκάνοι αρέσκονται να μας συνοδεύουν λίγα μέτρα από το σκάφος μας. \nΘα επισκεφθούμε επίσης τη λίμνη Δοϊράνη και την περιοχή «Χίλια Δέντρα»\, ένα μοναδικό μνημείο της φύσης με αιωνόβια σκλήθρα\, φράξους και βελανιδιές –ένα από τα πιο όμορφα δασωμένα παραλίμνια φυσικά τοπία της Μακεδονίας. \nΔηλώσεις ενδιαφέροντος ΕΔΩ! \nΣτο πρόγραμμα περιλαμβάνονται: \n\nΑπελευθέρωση πουλιών που έχουν αποθεραπευθεί στην ΑΝΙΜΑ –το Σύλλογο Προστασίας και Περίθαλψης Άγριας Ζωής\nΕπίσκεψη στο Κέντρο Ενημέρωσης για να μαθουμε περισσότερα για τα πουλιά και για τα παραλειπόμενα της λίμνης και των φραγμάτων\nΕπίσκεψη στον ιστορικό Σιδηροδρομικό Σταθμό της Βυρώνειας και τη γειτονική γέφυρα του Στρυμόνα\nΜετάβαση στο Ιερό Ησυχαστήριο Τιμίου Προδρόμου στο Ακριτοχώρι με βόλτα στο δάσος και θέα σε όλη την περιοχή\nΠερίπατος με ξενάγηση στην παραδοσιακή συνοικία Αγίου Γεωργίου και στα αρχοντικά της στα Άνω Πορόια\, το κεφαλοχώρι της περιοχής\nΘερμά λουτρά στο Σιδηρόκαστρο για άνδρες και γυναίκες (πάρτε μαγιό!)\nΕπίσκεψη σε πρότυπη φάρμα βουβαλιών στο χωριό Κερκίνη\nΔυνατότητα προμήθειας παραδοσιακών προϊόντων της περιοχής\, και βεβαια θα έχουμε όλοι και όλες την ευκαιρία να δοκιμάσουμε ντόπια πιάτα με βουβαλίσιο κρέας ή ψάρια της λίμνης στις ταβέρνες του χωριού\n\nΚατά τη διάρκεια της εκδρομής θα έχετε τη δυνατότητα να επιλέξετε ανάμεσα σε δύο ομάδες: \n\nΤην ομάδα Birdwatching\, με έμφαση στην παρατήρηση και φωτογράφιση άγριας ζωής\nΤην ομάδα Περιήγησης\, για μια πιο ολοκληρωμένη γνωριμία του τοπίου\, του περιβάλλοντος\, της ιστορίας\, της τοπικής οικονομίας\, της μακεδονίτικης αρχιτεκτονικής\, αλλά και όλων των σημείων ενδιαφέροντος γύρω από τη λίμνη\n\nΗ διαμονή μας θα γίνει στο φιλόξενο και ζεστό ξενοδοχείο «Βίλλα Μπέλλες» στο Ακριτοχώρι\, κοντά στη βορεινή πλευρά της λίμνης\, με θέα και στο δασωμένο όρος Μπέλλες. Το ξενοδοχείο βρίσκεται στο μέσο των διαδρομών που θέλουμε να κάνουμε και των επικέψεων στα ιδιαίτερα σημεία ενδιαφέροντος για παρατήρηση πουλιών\, αναψυχή και γνωριμία με το μαγικό αυτό τόπο. \nΑΝΑΛΥΤΙΚΟ ΠΡΟΓΡΑΜΜΑ ΕΚΔΡΟΜΗΣ (PDF) \nΠερισσότερες πληροφορίες: 6974510976\, 6937947072\, greenwayexperience1@gmail.com \n 
URL:https://www.wild-anima.gr/event/kerkini-doirani-tetraimeri-ekdromi-2-5-1-2026/
CATEGORIES:Εκδρομές
ATTACH;FMTTYPE=image/jpeg:https://www.wild-anima.gr/wp-content/uploads/2025/12/Αφισσα-Κερκινη-μικρο.jpg
END:VEVENT
BEGIN:VEVENT
DTSTART;TZID=Europe/Athens:20260124T070000
DTEND;TZID=Europe/Athens:20260125T200000
DTSTAMP:20260422T142743
CREATED:20260113T100319Z
LAST-MODIFIED:20260123T122252Z
UID:35445-1769238000-1769371200@www.wild-anima.gr
SUMMARY:Διήμερη Εκδρομή στο Εθνικό Πάρκο Μεσολογγίου - Αιτωλικού 24-25/1/2026
DESCRIPTION:Στη γη των Υγροτόπων με την Greenway Experience και την ΑΝΙΜΑ \nΗ Greenway Experience σε συνεργασία με την ΑΝΙΜΑ σας καλεί το Σαββατοκύριακο 24 και 25 Ιανουαρίου να συναντήσουμε τη φύση\, τη ζωντανή ιστορία\, τον πολιτισμό και την παράδοση στο Μεσολόγγι και στο Αιτωλικό. \nΜαζί θα γνωρίσουμε τον κόσμο των λιμνοθαλασσών που έχουν σχηματίσει οι ποταμοί Εύηνος και Αχελώος\, σε έναν από τους σημαντικότερους υγροτόπους της Ευρώπης. Εδώ\, το ήρεμο τοπίο\, η πλούσια βιοποικιλότητα και ο ατέλειωτος κόσμος των πουλιών μάς καλούν να ενώσουμε μύθους και παραδόσεις με τη σύγχρονη περιβαλλοντική και κοινωνική πραγματικότητα.\nΣτην εκδρομή θα ανακαλύψουμε τις λιγότερο γνωστές πλευρές αυτού του τόπου μέσα από παράλληλες δραστηριότητες και επισκέψεις\, οι οποίες θα καλύψουν όλα τα ενδιαφέροντά μας! Σε κατάλληλο σημείο θα γίνουν βέβαια και οι απελευθερώσεις ειδών που έχουν αποθεραπευθεί στην ΑΝΙΜΑ. \nΑναλυτικότερα: \nΣτο Εθνικό Πάρκο Λιμνοθαλασσών Μεσολογγίου – Αιτωλικού το νερό\, η άγρια ζωή\, η ιστορία και ο ανθρώπινος πολιτισμός συνυπάρχουν εδώ και αιώνες σε μια σπάνια ισορροπία. Η εξόρμησή μας εστιάζει στη γνωριμία με το ευρύτερο υγροτοπικό σύστημα που σχηματίζεται από τον ποταμό Αχελώο\, τις λιμνοθάλασσες\, τα διβάρια και τα εκτεταμένα παράκτια τοπία. Το Εθνικό Πάρκο αποτελεί περιοχή διεθνούς σημασίας για τα πουλιά\, καθώς φιλοξενεί εκατοντάδες είδη υδρόβιων\, παρυδάτιων και αρπακτικών\, λειτουργώντας ως σταθμός ξεκούρασης\, διαχείμασης και αναπαραγωγής για τη μεταναστευτική ορνιθοπανίδα της Μεσογείου. \nΣτο πλαίσιο της εκδρομής θα γνωρίσουμε τον Αρχαιολογικό χώρο των Οινιαδών\, έναν τόπο που αποτυπώνει τη διαχρονική σχέση του ανθρώπου με τα υδάτινα περάσματά του Αχελώου καθώς και το Δέλτα του Αχελώου\, ένα δυναμικό τοπίο μεγάλης οικολογικής αξίας\, ιδανικό για παρατήρηση πουλιών και κατανόηση της συνεχούς διαμόρφωσης της περιοχής από τη δύναμή του ποταμού. \nΙδιαίτερη θέση έχει το Αιτωλικό\, κτισμένο στο μοναδικό νησί της λιμνοθάλασσας. Εδώ φωτίζεται η ανθρώπινη παρουσία και αναπτύσσεται ο πολιτισμός σε έναν τόπο που έμαθε να ζει πάνω στο νερό: Θα επισκεφθούμε με ξενάγηση το Κέντρο Χαρακτικής της Βάσως Κατράκη\, το Αλιευτικό Μουσείο με μοναδικά εργαλεία αλιείας\, το Λαογραφικό Μουσείο και τους ιστορικούς ναούς του νησιού. \nΕδώ θα έχουμε επίσης την ευκαιρία να επισκεφθούμε μια οργανωμένη μονάδα παραγωγής αυγοτάραχου\, ώστε να γνωρίσουμε από κοντά ένα εμβληματικό προϊόν της λιμνοθάλασσας και τη διαδικασία παραγωγής του\, άρρηκτα συνδεδεμένη με το φυσικό περιβάλλον και τη μακραίωνη σχέση του ανθρώπου με το υγρό στοιχείο\, την αλιεία και την ιχθυοκαλλιέργεια. \nΕκτός από τη παρατήρηση πουλιών και τις φωτογραφίσεις στο Αιτωλικό και στις εκβολές του Αχελώου\, υπάρχουν πολλές δυνατότητες για πρωινή παρατήρηση πουλιών στη λιμνοθάλασσα Κλείσοβα στο Μεσολόγγι. Η Κλείσοβα αποτελεί έναν από τους σημαντικότερους πυρήνες προστασίας του Εθνικού Πάρκου\, όπου το ανοιχτό τοπίο\, τα ρηχά νερά και η πλούσια ορνιθοπανίδα αναδεικνύουν τη μεγάλη οικολογική και αισθητική αξία της περιοχής. \nΣτη Τουρλίδα θα μπορούμε επίσης να φωτογραφήσουμε τις γραφικές καλύβες των ψαράδων που στέκουν πάνω σε πασσάλους στο νερό\, δημιουργώντας άλλο ένα πολύχρωμο αξιοθέατο. Τέλος υπάρχει και η ευκαιρία για επίσκεψη στο γειτονικό Μουσείο Άλατος στις παλιές αλυκές της Τουρλίδας. \nΗ εκδρομή αυτή θα μας γεμίσει θετικές εμπειρίες\, θα μας μπολιάσει με την ειρηνική αισθητική της περιοχής\, θα μάθουμε πολλά και θα περάσουμε όμορφα! \nΔηλώστε συμμετοχή εδώ! \nΠληροφορίες: 6974510976\, 6937947072\, greenwayexperience1@gmail.com \nΑναλυτικό Πρόγραμμα Εκδρομής (PDF) \n 
URL:https://www.wild-anima.gr/event/diimeri-ekdromi-sto-ethniko-parko-mesolongiou-aitolikou-24-25-1-2026/
ATTACH;FMTTYPE=image/jpeg:https://www.wild-anima.gr/wp-content/uploads/2026/01/unnamed-1.jpg
END:VEVENT
END:VCALENDAR