BEGIN:VCALENDAR
VERSION:2.0
PRODID:-//ΑΝΙΜΑ - Σύλλογος Προστασίας και Περίθαλψης Άγριας Ζωής - ECPv6.15.12.2//NONSGML v1.0//EN
CALSCALE:GREGORIAN
METHOD:PUBLISH
X-WR-CALNAME:ΑΝΙΜΑ - Σύλλογος Προστασίας και Περίθαλψης Άγριας Ζωής
X-ORIGINAL-URL:https://www.wild-anima.gr
X-WR-CALDESC:Εκδηλώσεις
REFRESH-INTERVAL;VALUE=DURATION:PT1H
X-Robots-Tag:noindex
X-PUBLISHED-TTL:PT1H
BEGIN:VTIMEZONE
TZID:Europe/Athens
BEGIN:DAYLIGHT
TZOFFSETFROM:+0200
TZOFFSETTO:+0300
TZNAME:EEST
DTSTART:20240331T010000
END:DAYLIGHT
BEGIN:STANDARD
TZOFFSETFROM:+0300
TZOFFSETTO:+0200
TZNAME:EET
DTSTART:20241027T010000
END:STANDARD
BEGIN:DAYLIGHT
TZOFFSETFROM:+0200
TZOFFSETTO:+0300
TZNAME:EEST
DTSTART:20250330T010000
END:DAYLIGHT
BEGIN:STANDARD
TZOFFSETFROM:+0300
TZOFFSETTO:+0200
TZNAME:EET
DTSTART:20251026T010000
END:STANDARD
BEGIN:DAYLIGHT
TZOFFSETFROM:+0200
TZOFFSETTO:+0300
TZNAME:EEST
DTSTART:20260329T010000
END:DAYLIGHT
BEGIN:STANDARD
TZOFFSETFROM:+0300
TZOFFSETTO:+0200
TZNAME:EET
DTSTART:20261025T010000
END:STANDARD
END:VTIMEZONE
BEGIN:VEVENT
DTSTART;TZID=Europe/Athens:20250614T073000
DTEND;TZID=Europe/Athens:20250615T200000
DTSTAMP:20260422T233101
CREATED:20250604T133803Z
LAST-MODIFIED:20250604T133803Z
UID:33480-1749886200-1750017600@www.wild-anima.gr
SUMMARY:Ορεινή Ρούμελη 14-15/6/2025: Εκεί όπου η φύση αντιστέκεται
DESCRIPTION:Η Greenway Experience και η ΑΝΙΜΑ μας καλούν να ανακαλύψουμε μαζί ένα σημαντικό τμήμα της Ρούμελης που περιλαμβάνει τα Βαρδούσια\, την Οίτη και την Γκιώνα το Σ/Κ 14-15 Ιουνίου. \nΑυτή τη φορά θα αφήσουμε πίσω τη βιασύνη της πόλης και θα επισκεφθούμε την καρδιά της Ορεινής Ρούμελης και τους τρεις γίγαντες\, την Γκιώνα\, τα Βαρδούσια και την Οίτη. Τα τρία βουνά υψώνονται και περιφρουρούν έναν από τους λιγότερο κατοικημένους και πιο αυθεντικούς τόπους της Ελλάδας. Εδώ η φύση κρατά τον πρώτο λόγο\, χωρίς να χάνει τίποτα από την πρωτογενή της δύναμη. Εδώ η ζωή ανθίζει ελεύθερη σε δασικά λιβάδια\, πυκνά δάση\, δροσερά φαράγγια και πηγές που αναβλύζουν κρυστάλλινο νερό. Σε κατάλληλο σημείο θα γίνουν και οι απελευθερώσεις ειδών που έχουν λάβει περίθαλψη στην ΑΝΙΜΑ. \nΗ διαμονή μας θα γίνει στο ιστορικό κεφαλοχώρι Αθανάσιο Διάκο ή Άνω Μουσουνίτσα\, στο ξενοδοχείο ΒΑΡΔΟΥΣΙΑ με ατέλειωτη θέα στις κορφές των τριών βουνών. \nΔηλώσεις ενδιαφέροντος ΕΔΩ! \n  \n \nΑναλυτικότερα: \nΘα γνωρίσουμε και τα τρία μαγικά βουνά: την Οίτη\, τα Βαρδούσια και την Γκιώνα. Η Γκιώνα -το ψηλότερο βουνό της Νότιας Ελλάδας- στέκει με επιβλητικότητα\, ενώ στην Οίτη\, στο «βουνό των λουλουδιών»\, ξεδιπλώνονται χρωματιστά αγριολούλουδα\, που αυτήν την εποχή είναι στην ακμή τους. Θα τα φωτογραφίσουμε και θα προσπαθήσουμε να τα αναγνωρίσουμε.\nΤα μικτά δάση ελάτης και δρυός δημιουργούν ένα ζωντανό μωσαϊκό βιοποικιλότητας που φιλοξενεί σημαντικά είδη άγριας ζωής\, με το λύκο\, το ζαρκάδι και τα αρπακτικά πουλιά να βρίσκουν εδώ καταφύγιο. Τα Βαρδούσια\, πατρίδα του Αθανάσιου Διάκου\, αγκαλιάζουν τη Γκιώνα και με τα πεντακάθαρα νερά τους τροφοδοτούν τη λίμνη του Μόρνου.\nΤο φυσικό ανάγλυφο των τριών βουνών δεν είναι μόνο ένας επίγειος παράδεισος για τον περιπατητή και τον παρατηρητή\, αποτελεί και τόπο μνήμης: Από τα μονοπάτια τους πέρασαν άνθρωποι που αγωνίστηκαν\, που αντιστάθηκαν\, που άφησαν το αποτύπωμά τους στο χρόνο. Εδώ η φύση δεν αποτελεί το φόντο\, αλλά είναι η πρωταγωνίστρια της ιστορίας σε μία συνέχεια μέχρι σήμερα…\nΣε αυτό το διήμερο ταξίδι θα έρθουμε σε επαφή με τον εαυτό μας\, θα κινηθούμε μέσα στο τοπίο\, σε βατές διαδρομές με ήπιο ρυθμό\, με σεβασμό σε αυτό που παρατηρούμε\, μόνο φωτογραφίζοντας και αγγίζοντας αυτό που μας προσφέρει η φύση. Η ματιά μας θα είναι στραμμένη όχι μόνο στην ομορφιά\, αλλά και στη σημασία αυτού που βλέπουμε\, στην ιστορία και στο παρόν. \n  \nΣε αυτήν την εξόρμηση: \n\nΘα περπατήσουμε στο Οικολογικό Πάρκο της Παύλιανης και στις πηγές του Ασωπού\, ανάμεσα σε αιωνόβια δέντρα και δροσερές διαδρομές.\nΘα κινηθούμε στο οροπέδιο στις Βρύζες και σε δασικά λιβάδια\, σε περιοχές γνωστές για τα αγριολούλουδά τους και με πανοραμική θέα στην κορυφογραμμή της Γκιώνας. Ο καφές στο «Καταφύγιο» είναι εξαιρετικός.\nΣτο πάρκο του Ηρακλή\, θα ανακαλύψουμε τη χλωρίδα του Εθνικού Δρυμού Οίτης και θα έχουμε τη δυνατότητα να βουτήξουμε στα κρυστάλλινα νερά.\nΘα σταθούμε στον καταρράκτη και στο γεφύρι της Στρώμης\, θα φωτογραφίσουμε και θα απολαύσουμε την ομορφιά του φυσικού τοπίου.\nΘα ακολουθήσουμε διαδρομές δίπλα στο ποτάμι στην κοιλάδα του Μόρνου\, μέσα σε πλατάνια και ρεματιές.\nΘα δούμε τη μεγαλύτερη ορθοπλαγιά των Βαλκανίων στη Συκιά -ένα τοπίο της Γκιώνας επιβλητικό και μοναδικό. Σε μία συγκεκριμένη διαδρομή θα παρατηρήσουμε πουλιά των βράχων\, όπως Βραχοτσοπανάκους και είδη που βρίσκουν ιδανικό καταφύγιο εδώ\, αλλά θα πιούμε τον καφέ μας σε ένα παραδοσιακό καφενείο.\nΘα επισκεφθούμε τα ιστορικά χωριά Αθανάσιος Διάκος και Μαυρολιθάρι\, που διατηρούν τη ταυτότητα της περιοχής ζωντανή.\nΘα κάνουμε παρατήρηση άγριας ζωής και πουλιών.\nΘα φωτογραφίσουμε το τοπίο και τους φυσικούς του κατοίκους.\nΘα συμμετάσχουμε στην απελευθέρωση αποθεραπευμένων άγριων πουλιών σε συνεργασία με την ΑΝΙΜΑ.\n\n  \nΗ Greenway Experience και η ΑΝΙΜΑ\, με την εμπειρία τους στις περιβαλλοντικές εκδρομές και με αγάπη για την άγρια φύση\, σας προσκαλούν να συμμετάσχετε σε αυτή την εξόρμηση μακριά από τη ζέστη και την πολυκοσμία της πόλης! \nΔε χάνουμε αυτήν την εκδρομή!\nΟι αποδράσεις στο βουνό είναι ανάσες ζωής! \nΠερισσότερες πληροφορίες: greenwayexperience1@gmail.com – 6974510976 και 6937947072 \n 
URL:https://www.wild-anima.gr/event/oreini-roumeli-14-15-6-2025-ekei-opou-i-fysi-antisteketai/
ATTACH;FMTTYPE=image/jpeg:https://www.wild-anima.gr/wp-content/uploads/2025/06/DSC52654-5-scaled.jpg
END:VEVENT
END:VCALENDAR