BEGIN:VCALENDAR
VERSION:2.0
PRODID:-//ΑΝΙΜΑ - Σύλλογος Προστασίας και Περίθαλψης Άγριας Ζωής - ECPv6.15.12.2//NONSGML v1.0//EN
CALSCALE:GREGORIAN
METHOD:PUBLISH
X-WR-CALNAME:ΑΝΙΜΑ - Σύλλογος Προστασίας και Περίθαλψης Άγριας Ζωής
X-ORIGINAL-URL:https://www.wild-anima.gr
X-WR-CALDESC:Εκδηλώσεις
REFRESH-INTERVAL;VALUE=DURATION:PT1H
X-Robots-Tag:noindex
X-PUBLISHED-TTL:PT1H
BEGIN:VTIMEZONE
TZID:Europe/Athens
BEGIN:DAYLIGHT
TZOFFSETFROM:+0200
TZOFFSETTO:+0300
TZNAME:EEST
DTSTART:20240331T010000
END:DAYLIGHT
BEGIN:STANDARD
TZOFFSETFROM:+0300
TZOFFSETTO:+0200
TZNAME:EET
DTSTART:20241027T010000
END:STANDARD
BEGIN:DAYLIGHT
TZOFFSETFROM:+0200
TZOFFSETTO:+0300
TZNAME:EEST
DTSTART:20250330T010000
END:DAYLIGHT
BEGIN:STANDARD
TZOFFSETFROM:+0300
TZOFFSETTO:+0200
TZNAME:EET
DTSTART:20251026T010000
END:STANDARD
BEGIN:DAYLIGHT
TZOFFSETFROM:+0200
TZOFFSETTO:+0300
TZNAME:EEST
DTSTART:20260329T010000
END:DAYLIGHT
BEGIN:STANDARD
TZOFFSETFROM:+0300
TZOFFSETTO:+0200
TZNAME:EET
DTSTART:20261025T010000
END:STANDARD
END:VTIMEZONE
BEGIN:VEVENT
DTSTART;TZID=Europe/Athens:20250406T073000
DTEND;TZID=Europe/Athens:20250406T193000
DTSTAMP:20260423T011457
CREATED:20250321T151803Z
LAST-MODIFIED:20250324T075845Z
UID:33019-1743924600-1743967800@www.wild-anima.gr
SUMMARY:Μονοήμερη Εκδρομή Ασίνη - Μιδέα - Ναύπλιο
DESCRIPTION:Η Greenway Experience και η ΑΝΙΜΑ σας κοινοποιούμε την επόμενη μονοήμερη εκδρομή μας στην Αρχαία Ασίνη\, στη Μυκηναϊκή Μιδέα και στο Ναύπλιο την Κυριακή 6 Απριλίου. Σκοπός μας είναι να εξερευνήσουμε κάποια λιγότερο γνωστά σημεία της Αργολίδας. \nΔηλώσεις ενδιαφέροντος: https://forms.gle/ZHkysESaWb7YUbq29 \nΠερισσότερες πληροφορίες: τηλ. 6974510976\, greenwayexperience1@gmail.com \nΣυμμετοχή στις μονοήμερες: 40 ευρώ το άτομο (περιλαμβάνεται ΦΠΑ 24%) \nΔείτε παρακάτω το αναλυτικό πρόγραμμα της εκδρομής \nΗ Αρχαία Ασίνη ήταν μια σημαντική μυκηναϊκή πόλη\, που αναφέρεται ήδη από τον Όμηρο ως μία από τις πόλεις που έστειλαν πλοία στον Τρωικό Πόλεμο. Βρίσκεται μετά το Τολό σε ένα ειδυλλιακό σημείο\, σε λόφο με πλούσια βλάστηση και ορνιθοπανίδα και δίπλα στη θάλασσα. Σήμερα είναι ορατά τα τείχη της ελληνιστικής περιόδου\, ενώ ο αρχαιολογικός χώρος περιλαμβάνει ενδιαφέρουσες διαδρομές ανάμεσα σε θάμνους και αρωματικά φυτά. \nΕμείς θα γνωρίσουμε την ιστορία του χώρου με συνοδεία και ενημέρωση από ειδικό\, αλλά το πρόγραμμά μας περιλαμβάνει και γνωριμία με τα αγριολούλουδα\, τους θάμνους και τα αρωματικά φυτά\, που είναι ανθισμένα ακριβώς αυτή την εποχή. Θα μοιράσουμε καρτέλες με φωτογραφίες και στοιχεία\, προκειμένου να μάθουμε ποια είδη συναντούμε. Στο χώρο υπάρχει επίσης ενημερωτική έκθεση με όλα τα είδη της χλωρίδας του λόφου. Την Ασίνη τίμησε και ο Γιώργος Σεφέρης με το γνωστό ποίημά του «Ο βασιλιάς της Ασίνης». Εδώ θα κάνουμε και τις απελευθερώσεις ειδών που έχουν αποθεραπευθεί στην ΑΝΙΜΑ. \nΗ Ακρόπολη της Μιδέας ήταν μια από τις σημαντικότερες μυκηναϊκές ακροπόλεις της Αργολίδας\, αλλά λιγότερο γνωστή\, και για αυτό την επιλέξαμε: Χρονολογείται από τη Μυκηναϊκή Εποχή (1600-1100 π.Χ.) και διαθέτει εντυπωσιακά κυκλώπεια τείχη που χτίστηκαν με τεράστιους ογκόλιθους\, όπως αυτοί των Μυκηνών και της Τίρυνθας. Βρίσκεται σε στρατηγική θέση\, σε λόφο με πανοραμική θέα προς τις εύφορες πεδιάδες της Αργολίδας. Η γύρω περιοχή είναι γεμάτη ελαιώνες\, αμπελώνες και μεσογειακή βλάστηση. \nΤο Νεκροταφείο Δενδρών βρίσκεται στη Μιδέα και περιλαμβάνει ένα θολωτό και δεκαέξι θαλαμωτούς τάφους. Οι θαλαμωτοί τάφοι είχαν λαξευτεί σε μαλακό πέτρωμα και η είσοδός τους φραζόταν με ξερολιθιά. Επιχρισμένοι τοίχοι και δάπεδα μας δίνουν την εντύπωση ότι οι τάφοι αυτοί μιμούνται τις κατοικίες των ζωντανών. Αποτελεί ένα από τα πλουσιότερα μυκηναϊκά νεκροταφεία της Πελοποννήσου και μπορεί να συγκριθεί με αυτό των Αηδονιών στη Νεμέα\, που έχουμε επισκεφθεί. \nΤο Ναύπλιο είναι μια από τις πιο γραφικές και ιστορικά πλούσιες πόλεις της Ελλάδας\, με διαρκή κατοίκηση από την αρχαιότητα μέχρι σήμερα. Αναφέρεται ως επίνειο της Τίρυνθας και\, σύμφωνα με τη μυθολογία\, ιδρύθηκε από τον Ναύπλιο\, γιο του Ποσειδώνα. Στην Ενετοκρατία (15ος-17ος αιώνας) η πόλη οχυρώθηκε με τα επιβλητικά φρούρια Παλαμήδι\, Μπούρτζι και τα τείχη της Ακροναυπλίας. Να σημειώσουμε ότι το Μπούρτζι είναι επισκέψιμο\, αλλά εμείς προτείνουμε μια βόλτα στα πιο ενδιαφέροντα ιστορικά σημεία στο κέντρο τη πόλης. \n  \n✨ Συνοψίζοντας: \nΗ Αρχαία Ασίνη προσφέρει ένα μοναδικό συνδυασμό αρχαιολογικού ενδιαφέροντος\, παράκτιας φυσικής ομορφιάς και τη δυνατότητα να μάθουμε περισσότερα για τα ανθισμένα φυτά της άνοιξης. \nΗ Μιδέα είναι ένας λιγότερο γνωστός αλλά συναρπαστικός μυκηναϊκός αρχαιολογικός χώρος με εντυπωσιακή θέα και συνδυάζεται με την επίσκεψη στο νεκροταφείο Δενδρών. \nΤο Ναύπλιο συνδυάζει ιστορία και αρχιτεκτονική και ολοκληρώνει την εκδρομή μας. \n  \n🌟 Γιατί να έρθετε μαζί μας; \n✅ Εξερεύνηση λιγότερο γνωστών αλλά σπουδαίων αρχαιολογικών χώρων \n✅ Ένα ταξίδι στην καρδιά του μυκηναϊκού πολιτισμού με συνοδεία ειδικού \n✅ Μύηση στη μεσογειακή χλωρίδα\, τα αγριολούλουδα και τα αρωματικά φυτά της Ασίνης \n✅ Χαλάρωση και ιστορικός περίπατος στην πρώτη πρωτεύουσα της Ελλάδας \n✅ Πολλές δυνατότητες φωτογράφισης τοπίου\, λουλουδιών και πουλιών \n✅ Για τις απελευθερώσεις με την ΑΝΙΜΑ που όλοι περιμένουν \n✅ Γνωρίζουμε ανθρώπους που αγαπούν την ιστορία και τη φύση \n  \nΠΡΟΓΡΑΜΜΑ ΕΚΔΡΟΜΗΣ (PDF)\nΑΡΧΑΙΑ ΑΣΙΝΗ (VIDEO) \n 
URL:https://www.wild-anima.gr/event/monoimeri-ekdromi-asini-midea-nafplio/
CATEGORIES:Εκδρομές
ATTACH;FMTTYPE=image/jpeg:https://www.wild-anima.gr/wp-content/uploads/2025/03/Asini-thalassa.jpg
END:VEVENT
BEGIN:VEVENT
DTSTART;TZID=Europe/Athens:20250301T070000
DTEND;TZID=Europe/Athens:20250303T210000
DTSTAMP:20260423T011457
CREATED:20250207T083017Z
LAST-MODIFIED:20250219T074038Z
UID:32535-1740812400-1741035600@www.wild-anima.gr
SUMMARY:Δάσος Φολόης – Αρχαία Ολυμπία – Κυπαρισσιακός Κόλπος: Τριήμερο στη Φύση με την Greenway Experience και την ΑΝΙΜΑ
DESCRIPTION:Το τριήμερο της Καθαράς Δευτέρας (1-3 Μαρτίου 2025) η Greenway Experience και η ΑΝΙΜΑ μας προσκαλούν σε μια ξεχωριστή εκδρομή στη Δυτική Πελοπόννησο\, όπου θα περιηγηθούμε σε προστατευόμενες περιοχές γεμάτες φυσική ομορφιά και ιστορία. Από τα παράκτια δάση και τις λίμνες μέχρι τον ιερό τόπο της Αρχαίας Ολυμπίας και το μυθικό δάσος της Φολόης\, κάθε σημείο της διαδρομής μας αποτελεί μια ξεχωριστή εμπειρία. Η διαμονή μας θα είναι στο ξενοδοχείο ΑΝΤΩΝΙΟΣ 4* στην Αρχαία Ολυμπία. \nΔΗΛΩΣΕΙΣ ΕΝΔΙΑΦΕΡΟΝΤΟΣ ΕΔΩ! \n\nΜονόκλινο (κόστος 295 ευρώ)\nΔίκλινο (κόστος 235 ευρώ το άτομο)\nΤρίκλινο (κόστος 215 ευρώ το άτομο)\n\n  \nΟι διαδρομές μας το τριήμερο θα είναι οι εξής: \nΠαράκτιο Δάσος Ελέας & Λίμνη Καϊάφα \nΘα ανακαλύψουμε το παράκτιο δάσος Ελέας\, που εκτείνεται δίπλα στη απέραντη αμμουδιά του Κυπαρισσιακού κόλπου. Εδώ σχηματίζεται ένα ιδιαίτερο οικοσύστημα ανάμεσα σε  πεύκα και αμμοθίνες. O  Κυπαρισσιακός κόλπος αποτελεί μία από τις σημαντικότερες περιοχές ωοτοκίας της θαλάσσιας χελώνας Καρέτα – Καρέτα σε ολόκληρη τη Μεσόγειο\, προσδίδοντας στον τόπο μεγάλη οικολογική αξία. Θα επισκεφτούμε επίσης τη Λίμνη Καϊάφα\, έναν υγρότοπο πλούσιο σε άγρια ζωή\, γνωστό και για τις ιαματικές πηγές του. Το πρόγραμμα περιλαμβάνει απελευθερώσεις ειδών που έχουν αποθεραπευτεί στην ΑΝΙΜΑ. \n  \nΑρχαία Ολυμπία – Εκεί όπου γεννήθηκαν οι Ολυμπιακοί Αγώνες \nΘα περιηγηθούμε στον ιερό τόπο όπου γεννήθηκαν οι Ολυμπιακοί Αγώνες\, μέσα σε ένα φυσικό περιβάλλον απαράμιλλης ομορφιάς. Πιστοποιημένος ξεναγός θα μας συνοδεύει και θα μας ενημερώνει\, τόσο στον αρχαιολογικό χώρο (Ναός του Δία\, Στάδιο\, Φιλιππείο\, Ηραίο) όσο και στο Μουσείο\, όπου θα θαυμάσουμε τον περίφημο Ερμή του Πραξιτέλη και ανεκτίμητα αρχαιολογικά ευρήματα. Η Αρχαία Ολυμπία μάς προτρέπει να αφεθούμε στη μαγεία του παρελθόντος και να νιώσουμε τη δύναμη της ιστορίας\, που εξακολουθεί να ζει σε κάθε γωνιά αυτού του χώρου. \n  \nΔάσος Φολόης – Ο μύθος ζωντανεύει \nΣτην καρδιά της Πελοποννήσου βρίσκεται το μυθικό δρυοδάσος της Φολόης\, το βασίλειο των Κενταύρων. Εδώ\, σύμφωνα με τη μυθολογία\, ο Ηρακλής συναντήθηκε με τον Κένταυρο Φόλο\, πριν πραγματοποιήσει τον άθλο της σύλληψης του Ερυμάνθιου Κάπρου.\nΤο πυκνό αυτό δάσος είναι ένας από τους σημαντικότερους βιότοπους της περιοχής. Φιλοξενώντας δρυοκολάπτες\, αρπακτικά και άλλα δασικά είδη\, προσφέρει μοναδικές ευκαιρίες για παρατήρηση και φωτογράφιση άγριας ζωής. Τα μονοπάτια κάτω από τις πανύψηλες δρυς και το απαλό φως που φιλτράρεται μέσα από τα φύλλα δημιουργούν μια πραγματικά μαγευτική ατμόσφαιρα σε ένα τοπίο βγαλμένο από παραμύθι… \n  \nΓιατί να έρθετε σε αυτήν την εκδρομή: \n\nΕίναι ιδανική για φωτογραφία\, παρατήρηση πουλιών και περπάτημα στη φύση\nΣυνδυάζει με μοναδικό τρόπο φύση & πολιτισμό\nΑνακαλύπτουμε κρυμμένες ομορφιές της Δυτικής Πελοποννήσου\nΜαθαίνουμε για την άγρια ζωή\, τη μυθολογία & την ιστορία\nΈχουμε νέες εμπειρίες σε ένα γαλήνιο περιβάλλον.\n\nΔΕΝ ΧΑΝΟΥΜΕ ΑΥΤΗΝ ΤΗΝ ΕΚΔΡΟΜΗ! \n  \nΠρόγραμμα εκδρομής (PDF) \nΓια περισσότερες πληροφορίες\, τηλεφωνήστε μας: \nΣπύρος Ψύχας – 6974510976\nΔημήτρης Αναγνώστου – 6937947072 \nInfo: greenwayexperience1@gmail.com \n  \n \n 
URL:https://www.wild-anima.gr/event/dasos-folois-archaia-olybia-kyparissiakos-kolpos-triimero-sti-fysi-me-tin-greenway-experience-kai-tin-anima/
CATEGORIES:Εκδρομές
ATTACH;FMTTYPE=image/jpeg:https://www.wild-anima.gr/wp-content/uploads/2025/02/unnamed-scaled.jpg
END:VEVENT
BEGIN:VEVENT
DTSTART;TZID=Europe/Athens:20250201T070000
DTEND;TZID=Europe/Athens:20250202T210000
DTSTAMP:20260423T011457
CREATED:20250109T151452Z
LAST-MODIFIED:20250116T090442Z
UID:28626-1738393200-1738530000@www.wild-anima.gr
SUMMARY:Εκδρομή στο Μεσολόγγι και το Αιτωλικό με την Greenway Experience
DESCRIPTION:H εκδρομή μας σε Μεσολόγγι – Αιτωλικό και στους υγροτόπους ανάμεσα στις εκβολές του Αχελώου και του Ευήνου θα γίνει στις 1 και 2 Φεβρουαρίου και θα χαρούμε να σας δούμε εκεί! \nΌπως θα δείτε και στο πρόγραμμα\, υπάρχουν πολλές δραστηριότητες που αφορούν το ιδιαίτερο συγκινησιακό ιστορικό\, πολιτιστικό και κοινωνικό περιβάλλον της περιοχής και οι οποίες θα μας δώσουν μία πλούσια εικόνα και σύνθετες εμπειρίες. \nΚαι πάλι θα χωριστούμε σε δύο ομάδες ανάλογα με τα ενδιαφέροντά σας: η μία ομάδα θα επικεντρώσει στο birdwatching και στη φωτογράφιση πουλιών και τοπίου και η άλλη στα ιστορικά και πολιτιστικά στοιχεία. Και οι δύο ομάδες όμως θα κάνουν βαρκάδα στην Κλείσοβα\, παρατήρηση πουλιών και κοινές ενημερώσεις. \nΑυτή τη φορά η ΑΝΙΜΑ – εκτός από γερακίνες ή άλλα αρπακτικά – θα μας παραδώσει για απελευθέρωση και υδρόβια πουλιά\, των οποίων οι βιότοποι είναι ακριβώς οι υγρότοποι που θα επισκεφθούμε. \nΕάν θέλετε να συμμετέχετε μπορείτε να καταθέσετε τις προκαταβολές σας ως την Παρασκευή 17/1/25. Δείτε σχετικά τα παρακάτω αρχεία για τα κόστη και τις υπόλοιπες πληροφορίες της εκδρομής. Εκεί θα βρείτε και το πρόγραμμα. \n  \nΓια όποια διευκρίνιση τηλεφωνήστε μας: \nΣπύρος Ψύχας 6974510976\nΔημήτρης Αναγνώστου 6937947072 \n  \nΠεριγραφή της εκδρομής (PDF) \nΠληροφορίες – κόστoς (PDF) \nΠρόγραμμα εκδρομής (PDF)
URL:https://www.wild-anima.gr/event/ekdromi-sto-mesolongi-kai-to-aitoliko-me-tin-greenway-experience/
CATEGORIES:Εκδρομές
ATTACH;FMTTYPE=image/jpeg:https://www.wild-anima.gr/wp-content/uploads/2025/01/20211205_09.jpg
END:VEVENT
BEGIN:VEVENT
DTSTART;TZID=Europe/Athens:20250130T110000
DTEND;TZID=Europe/Athens:20250130T140000
DTSTAMP:20260423T011457
CREATED:20250113T125655Z
LAST-MODIFIED:20250117T152236Z
UID:28901-1738234800-1738245600@www.wild-anima.gr
SUMMARY:Ημερίδα: Η Άγρια Ζωή στους Δήμους του Λεκανοπεδίου - Μια πρόκληση για όλους μας
DESCRIPTION:Ημερίδα: Η Άγρια Ζωή στους Δήμους του Λεκανοπεδίου – Μια πρόκληση για όλους μας\nΗ ΑΝΙΜΑ και ο ΠΕΣΥΔΑΠ σας προσκαλούν στην ημερίδα με θέμα:\nΗ Άγρια Ζωή στους Δήμους του Λεκανοπεδίου: Μια πρόκληση για όλους μας\nη οποία θα πραγματοποιηθεί την Πέμπτη 30 Ιανουαρίου 2025\nαπό τις 11:00 έως τις 14:00\nστο Πνευματικό Κέντρο του Δήμου Αθηναίων (Ακαδημίας 50). \nΗ ημερίδα απευθύνεται σε στελέχη των δήμων και πολίτες και έχει στόχο να αναδείξει τη σημασία της βιολογικής ποικιλότητας μέσα στις πόλεις και να θέσει τις βάσεις μιας συζήτησης για την ανάπτυξη δράσεων που θα καταστήσουν τις πόλεις πιο φιλικές προς την άγρια ζωή. \nΣας περιμένουμε για μια ουσιαστική συζήτηση γύρω από τη συνύπαρξη ανθρώπων και άγριας φύσης στον αστικό ιστό. \n  \nΠΡΟΓΡΑΜΜΑ ΗΜΕΡΙΔΑΣ (PDF) \nΗ ημερίδα πραγματοποιείται στο πλαίσιο του έργου “Περίθαλψη και επανένταξη άγριων ζώων – συμβολή στην υλοποίηση των πολιτικών της ΕΕ για την αστική βιοποικιλότητα». Το έργο χρηματοδοτείται από το Πράσινο Ταμείο\, μέσω του Χρηματοδοτικού Προγράμματος «Φυσικό Περιβάλλον & Καινοτόμες Δράσεις 2023» – Άξονας Προτεραιότητας «Καινοτόμες δράσεις με τους πολίτες». \n 
URL:https://www.wild-anima.gr/event/imerida-i-agria-zoi-stous-dimous-tou-lekanopediou-mia-proklisi-gia-olous-mas/
LOCATION:Πνευματικό Κέντρο του Δήμου Αθηναίων\, Ακαδημίας 50\, Αθήνα\, 10679\, Greece
CATEGORIES:Ημερίδες
END:VEVENT
END:VCALENDAR