BEGIN:VCALENDAR
VERSION:2.0
PRODID:-//ΑΝΙΜΑ - Σύλλογος Προστασίας και Περίθαλψης Άγριας Ζωής - ECPv6.15.12.2//NONSGML v1.0//EN
CALSCALE:GREGORIAN
METHOD:PUBLISH
X-ORIGINAL-URL:https://www.wild-anima.gr
X-WR-CALDESC:Εκδηλώσεις
REFRESH-INTERVAL;VALUE=DURATION:PT1H
X-Robots-Tag:noindex
X-PUBLISHED-TTL:PT1H
BEGIN:VTIMEZONE
TZID:Europe/Athens
BEGIN:DAYLIGHT
TZOFFSETFROM:+0200
TZOFFSETTO:+0300
TZNAME:EEST
DTSTART:20250330T010000
END:DAYLIGHT
BEGIN:STANDARD
TZOFFSETFROM:+0300
TZOFFSETTO:+0200
TZNAME:EET
DTSTART:20251026T010000
END:STANDARD
BEGIN:DAYLIGHT
TZOFFSETFROM:+0200
TZOFFSETTO:+0300
TZNAME:EEST
DTSTART:20260329T010000
END:DAYLIGHT
BEGIN:STANDARD
TZOFFSETFROM:+0300
TZOFFSETTO:+0200
TZNAME:EET
DTSTART:20261025T010000
END:STANDARD
BEGIN:DAYLIGHT
TZOFFSETFROM:+0200
TZOFFSETTO:+0300
TZNAME:EEST
DTSTART:20270328T010000
END:DAYLIGHT
BEGIN:STANDARD
TZOFFSETFROM:+0300
TZOFFSETTO:+0200
TZNAME:EET
DTSTART:20271031T010000
END:STANDARD
END:VTIMEZONE
BEGIN:VEVENT
DTSTART;TZID=Europe/Athens:20260102T070000
DTEND;TZID=Europe/Athens:20260105T200000
DTSTAMP:20260423T014707
CREATED:20251201T102306Z
LAST-MODIFIED:20251201T102306Z
UID:35039-1767337200-1767643200@www.wild-anima.gr
SUMMARY:Κερκίνη - Δοϊράνη\, τετραήμερη εκδρομή 2-5/1/2026
DESCRIPTION:Αν υπάρχει ένας τόπος στη χώρα μας που μπορεί να χαρακτηριστεί «η πόλη των πουλιών»\, είναι η Κερκίνη. Το 1932 οι άνθρωποι δημιούργησαν έναν ταμιευτήρα για να συγκρατήσουν την ορμή του Στρυμόνα\, όμως τα πουλιά βρήκαν εκεί ένα νέο σπίτι. Η περιοχή μετατράπηκε σε ένα πλούσιο οικοσύστημα και έχει χαρακτηριστεί ως Υγρότοπος Διεθνούς Σημασίας και Εθνικό Πάρκο\, αποτελώντας μία από τις σημαντικότερες περιοχές για τα πουλιά της χώρας μας. \nΣήμερα\, η τεχνητή λίμνη Κερκίνη είναι ένας φυσικός παράδεισος. Δέχεται χιλιάδες επισκέπτες από όλο τον κόσμο\, που έρχονται με κάθε μέσο για να απολαύσουν όλα όσα προσφέρει. Οι πιο σημαντικοί όμως επισκέπτες έρχονται πετώντας: στην καρδιά του χειμώνα\, πάνω από 130 είδη πουλιών βρίσκουν εδώ καταλύματα και χώρο να τραφούν και να ξεχειμωνιάσουν. Η περίοδος αυτή είναι η πιο κατάλληλη εποχή να παρατηρήσουμε γερανούς\, αργυροπελεκάνους\, φοινικόπτερα και όλα τα είδη παπιών. Αδιαφιλονίκητες όμως σταρ του χειμώνα είναι οι σπάνιες νανόχηνες που μας έρχονται από τον αρκτικό κύκλο και τη Φινλανδία στην Ελλάδα και τις φιλοξενούμε αποκλειστικά στην Κερκίνη και στον Έβρο. \nΚαθ’ όλη τη διάρκεια της εκδρομής\, θα εξερευνήσουμε τις όχθες\, τα αναχώματα και τα υγρολίβαδα της Κερκίνης\, παρατηρώντας την άγρια ζωή στο χειμωνιάτικο ρυθμό της λίμνης. Η καθιερωμένη βαρκάδα θα μας φέρει –όσο επιτρέπεται– κοντά στους αργυροπελεκάνους στο κέντρο της λίμνης. Οι συγκινήσεις που θα νιώσουμε είναι έντονες\, αλλά πολλές και οι δυνατότητες φωτογράφισης\, μια και οι αργυροπελεκάνοι αρέσκονται να μας συνοδεύουν λίγα μέτρα από το σκάφος μας. \nΘα επισκεφθούμε επίσης τη λίμνη Δοϊράνη και την περιοχή «Χίλια Δέντρα»\, ένα μοναδικό μνημείο της φύσης με αιωνόβια σκλήθρα\, φράξους και βελανιδιές –ένα από τα πιο όμορφα δασωμένα παραλίμνια φυσικά τοπία της Μακεδονίας. \nΔηλώσεις ενδιαφέροντος ΕΔΩ! \nΣτο πρόγραμμα περιλαμβάνονται: \n\nΑπελευθέρωση πουλιών που έχουν αποθεραπευθεί στην ΑΝΙΜΑ –το Σύλλογο Προστασίας και Περίθαλψης Άγριας Ζωής\nΕπίσκεψη στο Κέντρο Ενημέρωσης για να μαθουμε περισσότερα για τα πουλιά και για τα παραλειπόμενα της λίμνης και των φραγμάτων\nΕπίσκεψη στον ιστορικό Σιδηροδρομικό Σταθμό της Βυρώνειας και τη γειτονική γέφυρα του Στρυμόνα\nΜετάβαση στο Ιερό Ησυχαστήριο Τιμίου Προδρόμου στο Ακριτοχώρι με βόλτα στο δάσος και θέα σε όλη την περιοχή\nΠερίπατος με ξενάγηση στην παραδοσιακή συνοικία Αγίου Γεωργίου και στα αρχοντικά της στα Άνω Πορόια\, το κεφαλοχώρι της περιοχής\nΘερμά λουτρά στο Σιδηρόκαστρο για άνδρες και γυναίκες (πάρτε μαγιό!)\nΕπίσκεψη σε πρότυπη φάρμα βουβαλιών στο χωριό Κερκίνη\nΔυνατότητα προμήθειας παραδοσιακών προϊόντων της περιοχής\, και βεβαια θα έχουμε όλοι και όλες την ευκαιρία να δοκιμάσουμε ντόπια πιάτα με βουβαλίσιο κρέας ή ψάρια της λίμνης στις ταβέρνες του χωριού\n\nΚατά τη διάρκεια της εκδρομής θα έχετε τη δυνατότητα να επιλέξετε ανάμεσα σε δύο ομάδες: \n\nΤην ομάδα Birdwatching\, με έμφαση στην παρατήρηση και φωτογράφιση άγριας ζωής\nΤην ομάδα Περιήγησης\, για μια πιο ολοκληρωμένη γνωριμία του τοπίου\, του περιβάλλοντος\, της ιστορίας\, της τοπικής οικονομίας\, της μακεδονίτικης αρχιτεκτονικής\, αλλά και όλων των σημείων ενδιαφέροντος γύρω από τη λίμνη\n\nΗ διαμονή μας θα γίνει στο φιλόξενο και ζεστό ξενοδοχείο «Βίλλα Μπέλλες» στο Ακριτοχώρι\, κοντά στη βορεινή πλευρά της λίμνης\, με θέα και στο δασωμένο όρος Μπέλλες. Το ξενοδοχείο βρίσκεται στο μέσο των διαδρομών που θέλουμε να κάνουμε και των επικέψεων στα ιδιαίτερα σημεία ενδιαφέροντος για παρατήρηση πουλιών\, αναψυχή και γνωριμία με το μαγικό αυτό τόπο. \nΑΝΑΛΥΤΙΚΟ ΠΡΟΓΡΑΜΜΑ ΕΚΔΡΟΜΗΣ (PDF) \nΠερισσότερες πληροφορίες: 6974510976\, 6937947072\, greenwayexperience1@gmail.com \n 
URL:https://www.wild-anima.gr/event/kerkini-doirani-tetraimeri-ekdromi-2-5-1-2026/
CATEGORIES:Εκδρομές
ATTACH;FMTTYPE=image/jpeg:https://www.wild-anima.gr/wp-content/uploads/2025/12/Αφισσα-Κερκινη-μικρο.jpg
END:VEVENT
BEGIN:VEVENT
DTSTART;TZID=Europe/Athens:20260124T070000
DTEND;TZID=Europe/Athens:20260125T200000
DTSTAMP:20260423T014707
CREATED:20260113T100319Z
LAST-MODIFIED:20260123T122252Z
UID:35445-1769238000-1769371200@www.wild-anima.gr
SUMMARY:Διήμερη Εκδρομή στο Εθνικό Πάρκο Μεσολογγίου - Αιτωλικού 24-25/1/2026
DESCRIPTION:Στη γη των Υγροτόπων με την Greenway Experience και την ΑΝΙΜΑ \nΗ Greenway Experience σε συνεργασία με την ΑΝΙΜΑ σας καλεί το Σαββατοκύριακο 24 και 25 Ιανουαρίου να συναντήσουμε τη φύση\, τη ζωντανή ιστορία\, τον πολιτισμό και την παράδοση στο Μεσολόγγι και στο Αιτωλικό. \nΜαζί θα γνωρίσουμε τον κόσμο των λιμνοθαλασσών που έχουν σχηματίσει οι ποταμοί Εύηνος και Αχελώος\, σε έναν από τους σημαντικότερους υγροτόπους της Ευρώπης. Εδώ\, το ήρεμο τοπίο\, η πλούσια βιοποικιλότητα και ο ατέλειωτος κόσμος των πουλιών μάς καλούν να ενώσουμε μύθους και παραδόσεις με τη σύγχρονη περιβαλλοντική και κοινωνική πραγματικότητα.\nΣτην εκδρομή θα ανακαλύψουμε τις λιγότερο γνωστές πλευρές αυτού του τόπου μέσα από παράλληλες δραστηριότητες και επισκέψεις\, οι οποίες θα καλύψουν όλα τα ενδιαφέροντά μας! Σε κατάλληλο σημείο θα γίνουν βέβαια και οι απελευθερώσεις ειδών που έχουν αποθεραπευθεί στην ΑΝΙΜΑ. \nΑναλυτικότερα: \nΣτο Εθνικό Πάρκο Λιμνοθαλασσών Μεσολογγίου – Αιτωλικού το νερό\, η άγρια ζωή\, η ιστορία και ο ανθρώπινος πολιτισμός συνυπάρχουν εδώ και αιώνες σε μια σπάνια ισορροπία. Η εξόρμησή μας εστιάζει στη γνωριμία με το ευρύτερο υγροτοπικό σύστημα που σχηματίζεται από τον ποταμό Αχελώο\, τις λιμνοθάλασσες\, τα διβάρια και τα εκτεταμένα παράκτια τοπία. Το Εθνικό Πάρκο αποτελεί περιοχή διεθνούς σημασίας για τα πουλιά\, καθώς φιλοξενεί εκατοντάδες είδη υδρόβιων\, παρυδάτιων και αρπακτικών\, λειτουργώντας ως σταθμός ξεκούρασης\, διαχείμασης και αναπαραγωγής για τη μεταναστευτική ορνιθοπανίδα της Μεσογείου. \nΣτο πλαίσιο της εκδρομής θα γνωρίσουμε τον Αρχαιολογικό χώρο των Οινιαδών\, έναν τόπο που αποτυπώνει τη διαχρονική σχέση του ανθρώπου με τα υδάτινα περάσματά του Αχελώου καθώς και το Δέλτα του Αχελώου\, ένα δυναμικό τοπίο μεγάλης οικολογικής αξίας\, ιδανικό για παρατήρηση πουλιών και κατανόηση της συνεχούς διαμόρφωσης της περιοχής από τη δύναμή του ποταμού. \nΙδιαίτερη θέση έχει το Αιτωλικό\, κτισμένο στο μοναδικό νησί της λιμνοθάλασσας. Εδώ φωτίζεται η ανθρώπινη παρουσία και αναπτύσσεται ο πολιτισμός σε έναν τόπο που έμαθε να ζει πάνω στο νερό: Θα επισκεφθούμε με ξενάγηση το Κέντρο Χαρακτικής της Βάσως Κατράκη\, το Αλιευτικό Μουσείο με μοναδικά εργαλεία αλιείας\, το Λαογραφικό Μουσείο και τους ιστορικούς ναούς του νησιού. \nΕδώ θα έχουμε επίσης την ευκαιρία να επισκεφθούμε μια οργανωμένη μονάδα παραγωγής αυγοτάραχου\, ώστε να γνωρίσουμε από κοντά ένα εμβληματικό προϊόν της λιμνοθάλασσας και τη διαδικασία παραγωγής του\, άρρηκτα συνδεδεμένη με το φυσικό περιβάλλον και τη μακραίωνη σχέση του ανθρώπου με το υγρό στοιχείο\, την αλιεία και την ιχθυοκαλλιέργεια. \nΕκτός από τη παρατήρηση πουλιών και τις φωτογραφίσεις στο Αιτωλικό και στις εκβολές του Αχελώου\, υπάρχουν πολλές δυνατότητες για πρωινή παρατήρηση πουλιών στη λιμνοθάλασσα Κλείσοβα στο Μεσολόγγι. Η Κλείσοβα αποτελεί έναν από τους σημαντικότερους πυρήνες προστασίας του Εθνικού Πάρκου\, όπου το ανοιχτό τοπίο\, τα ρηχά νερά και η πλούσια ορνιθοπανίδα αναδεικνύουν τη μεγάλη οικολογική και αισθητική αξία της περιοχής. \nΣτη Τουρλίδα θα μπορούμε επίσης να φωτογραφήσουμε τις γραφικές καλύβες των ψαράδων που στέκουν πάνω σε πασσάλους στο νερό\, δημιουργώντας άλλο ένα πολύχρωμο αξιοθέατο. Τέλος υπάρχει και η ευκαιρία για επίσκεψη στο γειτονικό Μουσείο Άλατος στις παλιές αλυκές της Τουρλίδας. \nΗ εκδρομή αυτή θα μας γεμίσει θετικές εμπειρίες\, θα μας μπολιάσει με την ειρηνική αισθητική της περιοχής\, θα μάθουμε πολλά και θα περάσουμε όμορφα! \nΔηλώστε συμμετοχή εδώ! \nΠληροφορίες: 6974510976\, 6937947072\, greenwayexperience1@gmail.com \nΑναλυτικό Πρόγραμμα Εκδρομής (PDF) \n 
URL:https://www.wild-anima.gr/event/diimeri-ekdromi-sto-ethniko-parko-mesolongiou-aitolikou-24-25-1-2026/
ATTACH;FMTTYPE=image/jpeg:https://www.wild-anima.gr/wp-content/uploads/2026/01/unnamed-1.jpg
END:VEVENT
BEGIN:VEVENT
DTSTART;TZID=Europe/Athens:20260221T070000
DTEND;TZID=Europe/Athens:20260223T210000
DTSTAMP:20260423T014707
CREATED:20260202T102332Z
LAST-MODIFIED:20260227T144126Z
UID:35473-1771657200-1771880400@www.wild-anima.gr
SUMMARY:Λίμνες Κορώνεια-Βόλβη και Δέλτα Αλιάκμονα 21-23/2/2026
DESCRIPTION:Μια νέα εκδρομή το τριήμερο της Καθαράς Δευτέρας με την Greenway Experience και την ΑΝΙΜΑ! \nΘα επισκεφθούμε δύο από τις σημαντικότερες φυσικές λίμνες της Βόρειας Ελλάδας\, την Κορώνεια και τη Βόλβη. Θα ξεκινήσουμε από το Δέλτα του Αλιάκμονα και το Παρατηρητήριο της Νέας Αγαθούπολης και θα καταλήξουμε στη Θεσσαλονίκη. Έτσι θα κινηθούμε ανάμεσα σε δύο κόσμους: στον αστικό χώρο μιας πόλης που υπήρξε σταυροδρόμι πολιτισμών και στα πλούσια φυσικά οικοσυστήματα που απλώνονται κυριολεκτικά στα όριά της. \nΑναλυτικότερα: \nΣτην περιοχή του Δέλτα Αλιάκμονα το ποτάμι συναντά τη θάλασσα και σχηματίζει έναν εκτεταμένο υγρότοπο με εκβολές\, λιμνοθάλασσες και αβαθή νερά. Εδώ έχουν καταγραφεί περισσότερα από 300 είδη πουλιών\, γεγονός που την καθιστά έναν από τους σημαντικότερους τόπους παρατήρησης άγριας ζωής στη χώρα. Τους χειμερινούς μήνες\, ο υγρότοπος λειτουργεί ως καταφύγιο για μεγάλους αριθμούς υδρόβιων\, παρυδάτιων και αρπακτικών πουλιών.\nΣτη Νέα Αγαθούπολη θα έχουμε την πρώτη μέρα την ευκαιρία να παρατηρήσουμε\, να μάθουμε περισσότερα για τον κόσμο των πουλιών και να τα φωτογραφίσουμε. Παράλληλα θα γίνουν και οι απελευθερώσεις ειδών που έχουν αποθεραπευθεί στην ΑΝΙΜΑ. \nΤη δεύτερη ημέρα η εκδρομή μας επικεντρώνεται στο οικοσύστημα των λιμνών Βόλβης και Κορώνειας. Η Βόλβη και η Κορώνεια συγκαταλέγονται στις μεγαλύτερες φυσικές λίμνες της Ελλάδας και αποτελούν έναν από τους σημαντικότερους υγροτόπους της χώρας\, με υψηλή οικολογική αξία και πλούσια άγρια ζωή. Στην περιοχή συναντάμε τους αιωνόβιους πλατάνους του Σχολαρίου\, κηρυγμένους ως διατηρητέο μνημείο της φύσης\, τη Νυμφόπετρα με τους χαρακτηριστικούς γεωλογικούς σχηματισμούς\, το παραλίμνιο δάσος της Απολλωνίας και το Κάστρο της Ρεντίνας. \nΘεωρούμε βεβαίως τη Θεσσαλονίκη όχι ως απλή βάση διαμονής\, αλλά ως αναπόσπαστο μέρος της εμπειρίας: Η πόλη με βαθιά ιστορία κατοικείται συνεχώς από την αρχαιότητα έως σήμερα και υπήρξε χώρος συνύπαρξης διαφορετικών πολιτισμών\, ανθρώπων και ιδεών. Θα έχουμε το χρόνο να περιηγηθούμε στην πόλη και να την γνωρίσουμε μέσα από μνημεία και ιστορικές διαδρομές\, τις σκεπασμένες αγορές\, τις εκκλησίες\, το λιμάνι. \nΤην τελευταία ημέρα θα επισκεφθούμε τον πλουσιότερο υγρότοπο της πόλης στο Καλοχώρι και θα ολοκληρώσουμε το ταξίδι μας με μια ακόμη επαφή με την άγρια ζωή σε ένα σημείο όπου το νερό και τα πουλιά έχουν πρωταγωνιστικό ρόλο. \nΗ διαμονή μας θα γίνει στο ξενοδοχείο ΕΣΠΕΡΙΑ στο κέντρο της Θεσσαλονίκης και σε κοντινές αποστάσεις από όλα τα αξιοθέατα\, με τα οποία θα μας ανταμείψει η φιλόξενη αυτή πόλη. \nΔηλώστε συμμετοχή εδώ! \n  \nΠρόγραμμα εκδρομής (PDF) \nΠερισσότερες πληροφορίες: 6974510976\, 6937947072\, greenwayexperience1@gmail.com \n 
URL:https://www.wild-anima.gr/event/limnes-koroneia-volvi-kai-delta-aliakmona-21-23-2-2026/
CATEGORIES:Εκδρομές
ATTACH;FMTTYPE=image/jpeg:https://www.wild-anima.gr/wp-content/uploads/2026/02/unnamed.jpg
END:VEVENT
BEGIN:VEVENT
DTSTART;TZID=Europe/Athens:20260321T073000
DTEND;TZID=Europe/Athens:20260322T200000
DTSTAMP:20260423T014707
CREATED:20260302T123342Z
LAST-MODIFIED:20260303T092106Z
UID:35522-1774078200-1774209600@www.wild-anima.gr
SUMMARY:Διήμερη εκδρομή στη Βόρεια Εύβοια 21-22/3/2026
DESCRIPTION:Βόρεια Εύβοια: Διήμερη εκδρομή σε ένα ξεχωριστό τόπο με την Greenway Experience και την ΑΝΙΜΑ \nΜια εκδρομή στη Βόρεια Εύβοια το Σαββατοκύριακο 21-22 Μαρτίου. Θα μείνουμε στο Δασικό Χωριό στους Παππάδες\, θα κάνουμε θερμά λουτρά στην Αιδηψό\, θα ξεναγηθούμε στη γραφική Λίμνη και το Μουσείο της ενώ θα κάνουμε παρατήρηση πουλιών στο Μικρό και Μεγάλο Λιβάρι στα Κανατάδικα της Ιστιαίας. \nΣτο εσωτερικό της Εύβοιας θα χαρούμε και θα φωτογραφήσουμε τους καταρράκτες του Δρυμώνα\, θα επισκεφθούμε τη Μονή του Οσίου Δαυίδ\, αλλά και το Παλαιοντολογικό Μουσείο της Κερασιάς\, με εκθέματα από το γειτονικό Απολιθωμένο Δάσος\, αντίστοιχου της Μυτιλήνης. \nΗ εκδρομή αυτή συνδυάζει την αναψυχή σε μια περιοχή που δεν έχουμε ξαναεπισκεφθεί με την οικολογία της αναγέννησης του καμένου δάσους και τα ιδιαίτερα αξιοθέατα που έχει να μας προσφέρει. \nΗ ίδια η διαμονή στο Δασικό Χωριό αποτελεί μια ιδιαίτερη εμπειρία διότι τα σπιτάκια είναι πολύ φροντισμένα και βρίσκονται σε δασική περιοχή με θέα. Το πρόγραμμά μας περιλαμβάνει και ενημέρωση για τη παρασκευή σαπουνιού με αρωματικά βότανα και παραδοσιακά υλικά\, καθώς και γεύμα το βράδυ του Σαββάτου στο Δασικό Χωριό. \nΤα σπιτάκια έχουν τζάκι\, μεγάλο σαλόνι-κουζίνα\, κοινή τουαλέτα και είναι δίχωρα τετράκλινα με ένα διπλό κρεβάτι και δύο μονά. Η άφιξη και η επιστροφή θα γίνουν με ferry μέσω Αρκίτσας – Αιδηψού. \nΔηλώστε το ενδιαφέρον σας ΕΔΩ! \nΠερισσότερες πληροφορίες προσεχώς.\nΕπικοινωνία: 6974510976\, 6937947072\, greenwayexperience1@gmail.com \n 
URL:https://www.wild-anima.gr/event/diimeri-ekdromi-sti-voreia-evvoia-21-22-3-2026/
CATEGORIES:Εκδρομές
ATTACH;FMTTYPE=image/jpeg:https://www.wild-anima.gr/wp-content/uploads/2026/03/Thea.jpg
END:VEVENT
BEGIN:VEVENT
DTSTART;TZID=Europe/Athens:20260501T070000
DTEND;TZID=Europe/Athens:20260504T200000
DTSTAMP:20260423T014707
CREATED:20260326T093058Z
LAST-MODIFIED:20260407T085309Z
UID:35706-1777618800-1777924800@www.wild-anima.gr
SUMMARY:Ανοιξιάτικες Πρέσπες 1-4 Μαΐου 2026
DESCRIPTION:Πρωτομαγιά στις Πρέσπες με την Greenway Experience και την ANIMA: Ένα ταξίδι στον τόπο των πουλιών \nΣτην καρδιά της άνοιξης ταξιδεύουμε στις Πρέσπες στις 1-4 Μαΐου για να ανακαλύψουμε μαζί τον μαγικό τους κόσμο: Χαρακτηρισμένες ως Εθνικό Πάρκο\, Μικρή και Μεγάλη Πρέσπα αποτελούν έναν από τους σπουδαιότερους υγροτόπους της Ευρώπης και έναν φυσικό παράδεισο που φιλοξενεί πάνω από 270 είδη πουλιών και 1700 είδη φυτών! \nΑυτήν την εποχή οι Πρέσπες βρίσκονται στην πιο έντονη περίοδο της ανοιξιάτικης μετανάστευσης: Το πλήθος των πουλιών που βρίσκουν καταφύγιο εδώ δημιουργούν ιδανικές συνθήκες για birdwatching και φωτογράφιση. Εδώ αργυροπελεκάνοι και ροδοπελεκάνοι σχηματίζουν μια από τις σημαντικότερες αποικίες τους παγκοσμίως. Ερωδιοί και δεκάδες παρυδάτια πουλιά φωλιάζουν στους καλαμιώνες και στα υγρολίβαδα\, ενώ συκοφάγοι και δρυοκολάπτες ζωντανεύουν με τους ήχους τους τα παρυδάτια δάση. Οι λίμνες\, οι καλαμιώνες\, τα υγρά λιβάδια\, τα αγριολούλουδα και η έντονη παρουσία των πουλιών συνθέτουν μια εμπειρία που δύσκολα συναντά κανείς. \nΔήλωση ενδιαφέροντος εδώ! \nΑναλυτικότερα: \nΣτη Μεγάλη Πρέσπα θα κάνουμε βαρκάδες με αφετηρία το λιμανάκι στον γραφικό οικισμό Ψαράδες\, θα ξεναγηθούμε στα εκκλησάκια με τις βραχογραφίες\, τις βυζαντινές σκήτες και τα σπήλαια στις όχθες της λίμνης και θα φωτογραφίσουμε τους αργυροπελεκάνους. \nΣτο παραλίμνιο δάσος\, στις εκβολές του ποταμού του Αγίου Γερμανού και στο Λαιμό θα κάνουμε παρατήρηση και φωτογράφιση πουλιών\, ενώ θα ενημερωθούμε και από τη Μονάδα Διαχείρισης του ΟΦΥΠΕΚΑ. Σε κατάλληλο σημείο θα γίνει και η απελευθέρωση ειδών που έχουν αποθεραπευθεί στην ΑΝΙΜΑ. \nΣτη Μικρή Πρέσπα θα επισκεφθούμε το πανέμορφο νησάκι με τη Βασιλική του Αγίου Αχιλλείου και σημαντικά παλαιοβυζαντινά μνημεία\, μάρτυρες της πλούσιας ιστορίας της περιοχής. Στο κατάφυτο αυτό νησάκι θα περπατήσουμε σε ένα τοπίο ιδιαίτερης γαλήνης και ομορφιάς. \nΣτον Άγιο Γερμανό θα ενημερωθούμε από την Εταιρεία Προστασίας Πρεσπών για τις επιτυχημένες πρωτοβουλίες οικο-ανάπτυξης στην περιοχή των λιμνών. \nΣτην Καστοριά θα περιηγηθούμε και θα φωτογραφίσουμε την παλιά πόλη με τα αρχοντικά στη συνοικία «Ντολτσό». Δίπλα στη λίμνη και λίγα μέτρα από την όχθη θα κάνουμε εύκολα παρατήρηση\, μια και η λίμνη της Καστοριάς είναι γεμάτη πουλιά. \nΌπως γνωρίζετε\, σε όλες τις εκδρομές χωριζόμαστε κάθε μέρα ανάλογα με τα ενδιαφέροντά μας και το πρόγραμμα διαμορφώνεται ανάλογα: Έτσι κινούμαστε με διαφορετικούς ρυθμούς ανά ομάδες\, είτε με περισσότερο περπάτημα\, είτε με έμφαση στην παρατήρηση και φωτογράφιση πουλιών\, είτε εστιάζοντας στα τοπία\, τα μνημεία\, την ιστορία και τα αξιοθέατα της περιοχής. \nΟι Πρέσπες είναι ένα συναρπαστικό ταξίδι στη φύση και στην ιστορία. Θα χαρούμε την άνοιξη με πανδαισία πουλιών και χρωμάτων\, θα φωτογραφίσουμε αργυροπελεκάνους και ροδοπελεκάνους και θα περάσουμε ένα φανταστικό τετραήμερο! \nΠρόγραμμα εκδρομής (PDF) \nΠερισσότερες πληροφορίες: 6974510976\, 6937947072\, greenwayexperience1@gmail.com \n 
URL:https://www.wild-anima.gr/event/anoixiatikes-prespes-1-4-maiou-2026/
CATEGORIES:Εκδρομές
ATTACH;FMTTYPE=image/jpeg:https://www.wild-anima.gr/wp-content/uploads/2026/03/3-scaled.jpg
END:VEVENT
BEGIN:VEVENT
DTSTART;TZID=Europe/Athens:20260515T080000
DTEND;TZID=Europe/Athens:20260518T200000
DTSTAMP:20260423T014707
CREATED:20260421T083913Z
LAST-MODIFIED:20260421T085832Z
UID:35825-1778832000-1779134400@www.wild-anima.gr
SUMMARY:Ανοιξιάτικη Κερκίνη και Δοϊράνη 15-18 Μαΐου 2026
DESCRIPTION:Μια εκδρομή σε κορυφαίο προορισμό την κατάλληλη εποχή\, με την Greenway Experience και την ΑΝΙΜΑ! \nΤαξιδεύουμε στις λίμνες Κερκίνη και Δοϊράνη την πιο ελκυστική εποχή του χρόνου: Η λίμνη\, τα ανοιξιάτικα χρώματα\, τα πουλιά\, η βαρκάδα\, η επίσκεψη σε φάρμα βουβαλιών\, τα Άνω Πορόϊα και η εξόρμηση στη Δοϊράνη δίνουν σε αυτό το τετραήμερο έναν ιδιαίτερο χαρακτήρα\, με έμφαση στη φύση και την παρατήρηση πουλιών\, τις φωτογραφίσεις\, αλλά και στην απόλαυση της ανοιξιάτικης ατμόσφαιρας και της ομορφιάς του τοπίου. Στα επιπλέον της εκδρομής είναι τα θερμά λουτρά στο Άγκιστρο\, που θα μας χαλαρώσουν και θα μας ξανανιώσουν! \nΔήλωση ενδιαφέροντος εδώ! \nΓιατί να πάμε Κερκίνη: Το 1932 οι άνθρωποι δημιούργησαν έναν ταμιευτήρα για να συγκρατήσουν την ορμή του ποταμού Στρυμώνα\, όμως τα πουλιά βρήκαν εκεί έναν υπέροχο βιότοπο. Η περιοχή μετατράπηκε σε ένα πλούσιο οικοσύστημα και έχει χαρακτηριστεί ως Υγρότοπος Διεθνούς Σημασίας και Εθνικό Πάρκο. Σήμερα η τεχνητή λίμνη παραμένει ένας φυσικός παράδεισος. Δέχεται χιλιάδες επισκέπτες από όλο τον κόσμο αλλά οι πιο σημαντικοί έρχονται «πετώντας» με τους αργυροπελεκάνους να έχουν μόνιμη κατοικία. \nΓιατί να έρθετε μαζί μας: Στο τετραήμερο θα εξερευνήσουμε μαζί τις όχθες\, τα αναχώματα και τα υγρολίβαδα\, παρατηρώντας με κυάλια και τηλεσκόπια την άγρια ζωή. Η καθιερωμένη βαρκάδα θα μας φέρει κοντά στους αργυροπελεκάνους στο κέντρο της λίμνης. Οι συγκινήσεις που θα νιώσουμε είναι έντονες και πολλές οι δυνατότητες φωτογράφισης\, μια και στους αργυροπελεκάνους αρέσει να μας συνοδεύουν λίγα μέτρα από το σκάφος. \nΔείτε εδώ ένα βίντεο του ΟΦΥΠΕΚΑ για την Κερκίνη \nΘα επισκεφθούμε επίσης τη Δοϊράνη και θα περπατήσουμε στην παραλίμνια περιοχή «Χίλια Δέντρα»\, ένα μοναδικό μνημείο της φύσης. Έχει  πλούσια ορνιθοπανίδα και αιωνόβια σκλήθρα\, φράξους και βελανιδιές\, αποτελώντας ένα από τα πιο όμορφα δάση της Μακεδονίας. Στο πρόγραμμα περιλαμβάνονται: \n\nΑπελευθέρωση πουλιών\, που έχουν αποθεραπευθεί στην ΑΝΙΜΑ στο φράγμα της Κερκίνης στο Λιθότοπο\nΕπίσκεψη στο Κέντρο Ενημέρωσης για να μάθουμε περισσότερα για τα πουλιά και για τα παραλειπόμενα της λίμνης και των φραγμάτων\nΕπίσκεψη στον ιστορικό Σιδηροδρομικό Σταθμό Βυρώνειας\nΜετάβαση στο Ησυχαστήριο Τιμίου Προδρόμου στο Ακριτοχώρι με βόλτα στο δάσος και θέα σε όλη την περιοχή\nΠερίπατο με ξενάγηση στην παραδοσιακή συνοικία Αγίου Γεωργίου και στα αρχοντικά της στα Άνω Πορόϊα\, το κεφαλοχώρι της περιοχής\nΘερμά λουτρά στις ιαματικές πηγές στο Άγκιστρο (πάρτε μαγιό!). Οι πηγές  θα μας χαρίσουν στιγμές χαλάρωσης και ευεξίας\, ενώ προσφέρουν ανακούφιση σε προβλήματα αρθροπάθειας\, ρευματοπάθειας\, οσφυαλγίας\, δερματικών παθήσεων και χολολιθίασης\nΕπίσκεψη σε πρότυπη φάρμα βουβαλιών στο χωριό Κερκίνη\nΔυνατότητα προμήθειας παραδοσιακών προϊόντων (γλυκά\, λουκάνικα\, καβουρμάς) και ευκαιρία να δοκιμάσουμε πιάτα με βουβαλίσιο κρέας ή ψάρια της λίμνης\n\nΌπως πάντα\, θα έχουμε τη δυνατότητα να επιλέγουμε ανάμεσα σε δύο ομάδες:\n-Την ομάδα Birdwatching\, με έμφαση στην παρατήρηση και φωτογράφιση άγριας ζωής με πρωινό ξύπνημα και βαρκάδα μεγαλύτερης διάρκειας\n– Την ομάδα Περιήγησης\, για μια ολοκληρωμένη γνωριμία του περιβάλλοντος\, της ιστορίας\, της τοπικής οικονομίας\, της μακεδονίτικης αρχιτεκτονικής\, αλλά και όλων των σημείων ενδιαφέροντος γύρω από τη λίμνη \nΗ διαμονή μας θα γίνει στο άνετο και φιλόξενο ξενοδοχείο «Βίλλα Μπέλες» στο Ακριτοχώρι\, στη βορεινή πλευρά της λίμνης\, με θέα και στο δασωμένο όρος Μπέλες.  Το ξενοδοχείο βρίσκεται στο μέσο των διαδρομών μας. \nΠερισσότερες πληροφορίες: 6974510976\, 6937947072\, greenwayexperience1@gmail.com \n  \n\n			\n				\n			\n			\n				\n			\n			\n				\n			\n			\n				\n			\n			\n				\n			\n			\n				\n			\n			\n				\n			\n			\n				\n			\n		\n\n 
URL:https://www.wild-anima.gr/event/anoixiatiki-kerkini-kai-doirani-15-18-maiou-2026/
CATEGORIES:Εκδρομές
ATTACH;FMTTYPE=image/jpeg:https://www.wild-anima.gr/wp-content/uploads/2026/04/Κερκίνη-–-Δοϊράννη-2-ΛΙΜΝΗ-μικρό-1-e1776761902804.jpg
END:VEVENT
END:VCALENDAR