BEGIN:VCALENDAR
VERSION:2.0
PRODID:-//ΑΝΙΜΑ - Σύλλογος Προστασίας και Περίθαλψης Άγριας Ζωής - ECPv6.15.12.2//NONSGML v1.0//EN
CALSCALE:GREGORIAN
METHOD:PUBLISH
X-WR-CALNAME:ΑΝΙΜΑ - Σύλλογος Προστασίας και Περίθαλψης Άγριας Ζωής
X-ORIGINAL-URL:https://www.wild-anima.gr
X-WR-CALDESC:Εκδηλώσεις
REFRESH-INTERVAL;VALUE=DURATION:PT1H
X-Robots-Tag:noindex
X-PUBLISHED-TTL:PT1H
BEGIN:VTIMEZONE
TZID:Europe/Athens
BEGIN:DAYLIGHT
TZOFFSETFROM:+0200
TZOFFSETTO:+0300
TZNAME:EEST
DTSTART:20240331T010000
END:DAYLIGHT
BEGIN:STANDARD
TZOFFSETFROM:+0300
TZOFFSETTO:+0200
TZNAME:EET
DTSTART:20241027T010000
END:STANDARD
BEGIN:DAYLIGHT
TZOFFSETFROM:+0200
TZOFFSETTO:+0300
TZNAME:EEST
DTSTART:20250330T010000
END:DAYLIGHT
BEGIN:STANDARD
TZOFFSETFROM:+0300
TZOFFSETTO:+0200
TZNAME:EET
DTSTART:20251026T010000
END:STANDARD
BEGIN:DAYLIGHT
TZOFFSETFROM:+0200
TZOFFSETTO:+0300
TZNAME:EEST
DTSTART:20260329T010000
END:DAYLIGHT
BEGIN:STANDARD
TZOFFSETFROM:+0300
TZOFFSETTO:+0200
TZNAME:EET
DTSTART:20261025T010000
END:STANDARD
END:VTIMEZONE
BEGIN:VEVENT
DTSTART;TZID=Europe/Athens:20251102T073000
DTEND;TZID=Europe/Athens:20251102T193000
DTSTAMP:20260422T182739
CREATED:20250911T081759Z
LAST-MODIFIED:20251010T131106Z
UID:34021-1762068600-1762111800@www.wild-anima.gr
SUMMARY:Θέατρο Αρχαίας Επιδαύρου - Λυγουριό - Παλαμήδι - Ναύπλιο: Μονοήμερη εκδρομή - Κυριακή 2/11/2025
DESCRIPTION:Η ΑΝΙΜΑ και η Greenway Experience\, σας προσκαλούμε να γνωρίσουμε έναν τόπο διεθνούς ενδιαφέροντος\, για τον οποίο ωστόσο μαθαίνουμε μόνο για τις παραστάσεις αρχαίου δράματος. Προτείνουμε λοιπόν να αφιερώσουμε μία μέρα στην περιβαλλοντική\, την ιστορική\, την αρχαιολογική αλλά και τη σύγχρονη διάσταση της Επιδαύρου και κατόπιν του Ναυπλίου με τα κάστρα του. Αναλυτικότερα: \nΑ. Με τη συμβολή ξεναγού θα επισκεφθούμε το Μουσείο της Επιδαύρου\, θα περπατήσουμε στον αρχαιολογικό χώρο του θεραπευτηρίου του Ασκληπιού και στο διάσημο Αρχαίο Θέατρο. Η αρμονία αυτού του Θεάτρου οφείλεται στον μοναδικό του σχεδιασμό\, που συνδυάζει την κομψότητα με την τέλεια ακουστική. Για το λόγο αυτό το Θέατρο είναι διεθνής προορισμός ενώ από το 1954 δίνονται παραστάσεις αρχαίου δράματος στα πλαίσια του Διεθνούς Φεστιβάλ Αθηνών – Επιδαύρου. Το Θέατρο και ο αρχαιολογικός χώρος βρίσκονται μέσα σε πυκνό δάσος και αυτό τους προσδίδει μια ιδιαίτερη ομορφιά. \nΒ. Στο γειτονικό Λυγουριό θα επισκεφθούμε το Μουσείο Φυσικής Ιστορίας Κωτσιομύτη με εντυπωσιακή συλλογή ορυκτών\, μεταλλευμάτων\, αμμωνιτών και άλλων απολιθωμάτων με ηλικία εκατομμυρίων ετών. Εδώ μπορούμε να προμηθευτούμε σε πολύ προσιτές τιμές κοσμήματα από ημιπολύτιμους λίθους. \nΓ. Κατόπιν θα ανέβουμε με το λεωφορείο στο επιβλητικό φρούριο Παλαμήδι στο Ναύπλιο που δεσπόζει στην πόλη και έχει απέραντη θέα στον Αργολικό κόλπο. Εδώ θα κάνουμε μία ενημέρωση για την ιστορία της πόλης και για τις ενετικές οχυρώσεις (Παλαμήδι\, Ακροναυπλία\, Μπούρτζι). Στο Παλαμήδι θα έχουμε την ευκαιρία να παρατηρήσουμε και να φωτογραφήσουμε τα είδη των πουλιών που φωλιάζουν σε βραχώδεις περιοχές όπως γαλαζοκότσυφες\, βραχοτσοπανάκους\, κόρακες αλλά και βραχοκιρκίνεζα. Μοναδικές είναι και οι δυνατότητες φωτογράφησης της πόλης του Ναυπλίου από ψηλά. Στο ίδιο το Ναύπλιο θα γίνει μια σύντομη ξενάγηση για τα βασικά αξιοθέατα στο κέντρο της πόλης. Όλοι και όλες βέβαια θα απολαύσουμε καφέ και φαγητό στα πολύ φροντισμένα μεζεδοπωλεία στα γραφικά σοκάκια της πόλης. \nΣημειώστε ότι την Κυριακή 2/11 είναι ελεύθερη η είσοδος σε δημόσια Μουσεία και αρχαιολογικούς χώρους και είναι μοναδική ευκαιρία να συμμετέχουμε με χαμηλό κόστος στην εκδρομή αυτή. \nΕκδήλωση ενδιαφέροντος εδώ! \nΚόστος των μονοήμερων εκδρομών: 40 ευρώ (συμπεριλαμβάνεται ΦΠΑ 24%). \ninfo: greenwayexperience1@gmail.com – 6974510976\, 6937947072 \n 
URL:https://www.wild-anima.gr/event/theatro-archaias-epidavrou-lygourio-nea-epidavros-monoimeri-ekdromi-kyriaki-12-10-2025/
CATEGORIES:Εκδρομές
ATTACH;FMTTYPE=image/jpeg:https://www.wild-anima.gr/wp-content/uploads/2025/09/epidavros.jpeg
END:VEVENT
END:VCALENDAR