BEGIN:VCALENDAR
VERSION:2.0
PRODID:-//ΑΝΙΜΑ - Σύλλογος Προστασίας και Περίθαλψης Άγριας Ζωής - ECPv6.15.12.2//NONSGML v1.0//EN
CALSCALE:GREGORIAN
METHOD:PUBLISH
X-ORIGINAL-URL:https://www.wild-anima.gr
X-WR-CALDESC:Εκδηλώσεις
REFRESH-INTERVAL;VALUE=DURATION:PT1H
X-Robots-Tag:noindex
X-PUBLISHED-TTL:PT1H
BEGIN:VTIMEZONE
TZID:Europe/Athens
BEGIN:DAYLIGHT
TZOFFSETFROM:+0200
TZOFFSETTO:+0300
TZNAME:EEST
DTSTART:20240331T010000
END:DAYLIGHT
BEGIN:STANDARD
TZOFFSETFROM:+0300
TZOFFSETTO:+0200
TZNAME:EET
DTSTART:20241027T010000
END:STANDARD
BEGIN:DAYLIGHT
TZOFFSETFROM:+0200
TZOFFSETTO:+0300
TZNAME:EEST
DTSTART:20250330T010000
END:DAYLIGHT
BEGIN:STANDARD
TZOFFSETFROM:+0300
TZOFFSETTO:+0200
TZNAME:EET
DTSTART:20251026T010000
END:STANDARD
BEGIN:DAYLIGHT
TZOFFSETFROM:+0200
TZOFFSETTO:+0300
TZNAME:EEST
DTSTART:20260329T010000
END:DAYLIGHT
BEGIN:STANDARD
TZOFFSETFROM:+0300
TZOFFSETTO:+0200
TZNAME:EET
DTSTART:20261025T010000
END:STANDARD
END:VTIMEZONE
BEGIN:VEVENT
DTSTART;TZID=Europe/Athens:20251025T073000
DTEND;TZID=Europe/Athens:20251028T210000
DTSTAMP:20260422T195519
CREATED:20251013T082601Z
LAST-MODIFIED:20251013T083144Z
UID:34278-1761377400-1761685200@www.wild-anima.gr
SUMMARY:Η Μαγεία του Εθνικού Πάρκου Ροδόπης: 25-28 Οκτωβρίου 2025
DESCRIPTION:Στα παρθένα δάση της Ροδόπης πάνω από το Παρανέστι το φθινόπωρο αποκαλύπτει όλη του τη μαγεία: Οι πλαγιές και οι κοιλάδες ντύνονται με αποχρώσεις χρυσού\, κόκκινου\, καφέ και πράσινου\, δημιουργώντας μια μοναδική μωσαϊκή εμπειρία. Το Εθνικό Πάρκο Ροδόπης είναι από τα πλουσιότερα φυσικά οικοσυστήματα της Ελλάδας\, ένας πραγματικός βοτανικός παράδεισος. Από τη μεσογειακή βλάστηση στις χαμηλές ζώνες μέχρι τα ψυχρόβια κωνοφόρα στις κορυφές και μέχρι τα σύνορα\, τα βουνά φανερώνουν μία απίστευτη εναλλαγή οικοσυστημάτων. Οι εναλλαγές και οι διαβαθμίσεις της βλάστησης θυμίζουν ένα ταξίδι από τη Μεσόγειο στη βόρεια Ευρώπη μέσα σε λίγες ώρες. Ταυτόχρονα αποτελούν από τους πιο σημαντικούς τόπους για παρατήρηση της άγριας ζωής\, καθώς εδώ πολλά είδη βρίσκουν καταφύγιο. \nΣε αυτήν την εξόρμηση θα απολαύσουμε τους καταρράκτες της Αγίας Βαρβάρας\, θα κάνουμε ασκήσεις αναπνοής και forest therapy\, ενώ στο χωριό της Πρασινάδας θα μάθουμε για τα βότανα του Φρακτού και τις φαρμακευτικές τους ιδιότητες. Στις όχθες του ποταμού Νέστου θα κάνουμε παρατήρηση πουλιών ενώ σε κατάλληλο σημείο θα γίνουν και οι απελευθερώσεις με την ΑΝΙΜΑ. \nΣτο Παρανέστι θα συμμετέχουμε σε ανοικτή εκδήλωση για τις δραστηριότητες που έχει αναπτύξει το Πελίτι\, το οποίο τα τελευταία 30 χρόνια ασχολείται με τη συλλογή\, διατήρηση και διάδοση των παραδοσιακών ποικιλιών σπόρων και φυτών. Ξεχωριστή δραστηριότητα αφορά τη βιολογική μελισσοκομία και πολυβραβευμένα μέλια\, που παράγονται στην περιοχή. \nΔηλώσεις ενδιαφέροντος εδώ! \nΠερισσότερες πληροφορίες: 6974510976\, 6937947072\, greenwayexperience1@gmail.com \n 
URL:https://www.wild-anima.gr/event/i-mageia-tou-ethnikou-parkou-rodopis-25-28-oktovriou-2025/
CATEGORIES:Εκδρομές
ATTACH;FMTTYPE=image/jpeg:https://www.wild-anima.gr/wp-content/uploads/2025/10/RODOPI3mikro-scaled.jpg
END:VEVENT
END:VCALENDAR