BEGIN:VCALENDAR
VERSION:2.0
PRODID:-//ΑΝΙΜΑ - Σύλλογος Προστασίας και Περίθαλψης Άγριας Ζωής - ECPv6.15.12.2//NONSGML v1.0//EN
CALSCALE:GREGORIAN
METHOD:PUBLISH
X-ORIGINAL-URL:https://www.wild-anima.gr
X-WR-CALDESC:Εκδηλώσεις
REFRESH-INTERVAL;VALUE=DURATION:PT1H
X-Robots-Tag:noindex
X-PUBLISHED-TTL:PT1H
BEGIN:VTIMEZONE
TZID:Europe/Athens
BEGIN:DAYLIGHT
TZOFFSETFROM:+0200
TZOFFSETTO:+0300
TZNAME:EEST
DTSTART:20240331T010000
END:DAYLIGHT
BEGIN:STANDARD
TZOFFSETFROM:+0300
TZOFFSETTO:+0200
TZNAME:EET
DTSTART:20241027T010000
END:STANDARD
BEGIN:DAYLIGHT
TZOFFSETFROM:+0200
TZOFFSETTO:+0300
TZNAME:EEST
DTSTART:20250330T010000
END:DAYLIGHT
BEGIN:STANDARD
TZOFFSETFROM:+0300
TZOFFSETTO:+0200
TZNAME:EET
DTSTART:20251026T010000
END:STANDARD
BEGIN:DAYLIGHT
TZOFFSETFROM:+0200
TZOFFSETTO:+0300
TZNAME:EEST
DTSTART:20260329T010000
END:DAYLIGHT
BEGIN:STANDARD
TZOFFSETFROM:+0300
TZOFFSETTO:+0200
TZNAME:EET
DTSTART:20261025T010000
END:STANDARD
END:VTIMEZONE
BEGIN:VEVENT
DTSTART;TZID=Europe/Athens:20250518T073000
DTEND;TZID=Europe/Athens:20250518T190000
DTSTAMP:20260423T014415
CREATED:20250512T114139Z
LAST-MODIFIED:20250512T114139Z
UID:33391-1747553400-1747594800@www.wild-anima.gr
SUMMARY:Μονοήμερη Εκδρομή Χαλκίδα - Εύριπος - Αλυκή Κοπανά Κυριακή 18/5/2025
DESCRIPTION:Η Greenway Experience και η ΑΝΙΜΑ σας προσκαλούμε στην επόμενη μονοήμερη εξόρμησή\nμας στη Χαλκίδα την Κυριακή 18 Μαΐου.\nΠεριλαμβάνει απελευθερώσεις και παρατήρηση πουλιών στην αλυκή Κοπανά (νότια της Χαλκίδας) και κατόπιν επίσκεψη στο Αρχαιολογικό Μουσείο\, στο τέμενος του Εμίρ Ζαδέ\, στο Κάστρο του Καράμπαμπα και στον πορθμό του Ευρίπου – παλιά γέφυρα. Η εκδρομή μας θα ολοκληρωθεί με επίσκεψη σε βιολογικό αγρόκτημα και γεύμα αποκλειστικά με βιολογικά – παραδοσιακά προϊόντα. \nΔηλώσεις ενδιαφέροντος εδώ.\nΠερισσότερες πληροφορίες: τηλ. 6974510976 και 6937947072\, greenwayexperience1@gmail.com \nΑναλυτικότερα:\nΗ εκδρομή θα ξεκινήσει με παρατήρηση πουλιών σε δύο μικρούς υγροτόπους\, την Αλυκή Κοπανά – Αλυκή Νέας Λαμψάκου\, που λόγω ανοιξιάτικης μετανάστευσης θα έχουν ενδιαφέρον. Ακολουθεί το Αρχαιολογικό Μουσείο «ΑΡΕΘΟΥΣΑ»\, το Κάστρο του Καράμπαμπα και ο πορθμός του Ευρίπου με την παλαιά γέφυρα\, το τζαμί του Εμίρ Ζαδέ\, η παλαιά εκκλησία της Αγίας Παρασκευής\, η οικία του Βαΐλου – Ενετού διοικητή και τα σοκάκια της παλιάς Χαλκίδας.\nΗ εκδρομή μας θα περιλάβει επίσκεψη σε βιολογικό αγρόκτημα στην περιοχή της Αυλίδας\, όπου οι παραδοσιακές τεχνικές καλλιέργειας και εκτροφής ζώων συνδυάζονται με έναν άλλο τρόπο ζωής. Στο βιολογικό αγρόκτημα «Σπύρος και Νικολέττα» θα ενημερωθούμε για τις τεχνικές της βιοκαλλιέργειας\, το συνδυασμό με την παραδοσιακή κτηνοτροφία\, την αξία των βιολογικών προϊόντων και των προϊόντων από ντόπιες ποικιλίες.\nΗ εκδρομή μας θα κλείσει με γεύμα στο αγρόκτημα αποκλειστικά με βιολογικά προϊόντα εποχής. Όλοι οι συμμετέχοντες θα πάρουν ως δώρο γλαστράκια με λαχανικά για να τα καλλιεργήσουν.\nΗ τιμή για τη μονοήμερη είναι 40 ευρώ/ άτομο. Περιλαμβάνεται ΦΠΑ 24% και τα μουσεία αλλά όχι τα γεύματα και τυχόν προσωπικά έξοδα. Δείτε παρακάτω το αναλυτικό πρόγραμμα της εκδρομής. \n \nΓιατί να έρθετε μαζί μας; \n\nBirdwatching και φωτογράφιση υδρόβιων πουλιών σε δύο αλυκές\nΕπαφή με τη βιοκαλλιέργεια για έναν πιο φυσικό τρόπο ζωής\nΓεύμα αποκλειστικά με βιολογικά προϊόντα\nΓνωριμία με την αρχαία και νεότερη ιστορία της γειτονικής Χαλκίδας\nΠερίπατος σε μια από τις πιο όμορφες παραθαλάσσιες πόλεις της χώρας μας\nΠολλές δυνατότητες φωτογράφισης των αξιοθέατων και των μνημείων της πόλης\nΓια τις απελευθερώσεις με την ΑΝΙΜΑ\, που όλοι περιμένουν!\n\nΔΕΝ ΧΑΝΟΥΜΕ ΑΥΤΗ ΤΗΝ ΕΚΔΡΟΜΗ!\nΕΙΝΑΙ ΜΟΝΑΔΙΚΗ ΚΑΙ ΠΡΩΤΟΤΥΠΗ!\nΣΑΣ ΠΕΡΙΜΕΝΟΥΜΕ! \nΠρόγραμμα εκδρομής (PDF) \n 
URL:https://www.wild-anima.gr/event/monoimeri-ekdromi-chalkida-evripos-alyki-kopana-kyriaki-18-5-2025/
CATEGORIES:Εκδρομές
ATTACH;FMTTYPE=image/jpeg:https://www.wild-anima.gr/wp-content/uploads/2025/05/Kopana.jpg
END:VEVENT
END:VCALENDAR