BEGIN:VCALENDAR
VERSION:2.0
PRODID:-//ΑΝΙΜΑ - Σύλλογος Προστασίας και Περίθαλψης Άγριας Ζωής - ECPv6.15.12.2//NONSGML v1.0//EN
CALSCALE:GREGORIAN
METHOD:PUBLISH
X-ORIGINAL-URL:https://www.wild-anima.gr
X-WR-CALDESC:Εκδηλώσεις
REFRESH-INTERVAL;VALUE=DURATION:PT1H
X-Robots-Tag:noindex
X-PUBLISHED-TTL:PT1H
BEGIN:VTIMEZONE
TZID:Europe/Athens
BEGIN:DAYLIGHT
TZOFFSETFROM:+0200
TZOFFSETTO:+0300
TZNAME:EEST
DTSTART:20240331T010000
END:DAYLIGHT
BEGIN:STANDARD
TZOFFSETFROM:+0300
TZOFFSETTO:+0200
TZNAME:EET
DTSTART:20241027T010000
END:STANDARD
BEGIN:DAYLIGHT
TZOFFSETFROM:+0200
TZOFFSETTO:+0300
TZNAME:EEST
DTSTART:20250330T010000
END:DAYLIGHT
BEGIN:STANDARD
TZOFFSETFROM:+0300
TZOFFSETTO:+0200
TZNAME:EET
DTSTART:20251026T010000
END:STANDARD
BEGIN:DAYLIGHT
TZOFFSETFROM:+0200
TZOFFSETTO:+0300
TZNAME:EEST
DTSTART:20260329T010000
END:DAYLIGHT
BEGIN:STANDARD
TZOFFSETFROM:+0300
TZOFFSETTO:+0200
TZNAME:EET
DTSTART:20261025T010000
END:STANDARD
END:VTIMEZONE
BEGIN:VEVENT
DTSTART;TZID=Europe/Athens:20250501T070000
DTEND;TZID=Europe/Athens:20250504T203000
DTSTAMP:20260423T014354
CREATED:20250409T074806Z
LAST-MODIFIED:20250417T113026Z
UID:33254-1746082800-1746390600@www.wild-anima.gr
SUMMARY:ΒΕΡΓΙΝΑ - ΒΕΡΜΙΟ - ΝΑΟΥΣΑ 1-4 Μαΐου με την Greenway Experience και την ΑΝΙΜΑ
DESCRIPTION:Βεργίνα\, όρος Βέρμιο και Νάουσα 1-4 Μαΐου\nΠρωτομαγιά με την ΑΝΙΜΑ και την Greenway Experience \n  \nΑγαπητοί φίλοι και φίλες\, \nΣας καλούμε σε μια μοναδική εκδρομή που συνδυάζει την αρχαία ιστορία\, το φυσικό μεγαλείο και την πολιτιστική κληρονομιά της Μακεδονίας! \nΜαζί θα επισκεφθούμε με ξεναγό τη Βεργίνα\, θα κάνουμε παρατήρηση πουλιών και φωτογραφίσεις στο δάσος στο Βέρμιο και στο χιονοδρομικό στα Τρία-Πέντε Πηγάδια. Θα ξεναγηθούμε στη Σχολή Αριστοτέλη και στους μακεδονικούς τάφους στη Μίεζα και θα μάθουμε περισσότερα για το Ξινόμαυρο στα οινοποιεία της περιοχής. Η ίδια η πόλη της Νάουσας είναι πανέμορφη\, τη διατρέχει η Αράπιτσα και έχει πολλά αξιοθέατα! \nΔηλώσεις ενδιαφέροντος ΕΔΩ! (αναφέρονται οι τιμές ανά δωμάτιο) \ne-mail: greenwayexperience1@gmail.com\nΤηλέφωνα: 6974510976 και 6937947072 \nΑναλυτικότερα η εκδρομή μας: \nΒεργίνα και βασιλικοί τάφοι των Αιγών\nΘα επισκεφθούμε με ξεναγό ολόκληρο τον αρχαιολογικό χώρο της Βεργίνας\, όπου ανακαλύφθηκε ο τάφος του Φιλίππου Β΄\, πατέρα του Μ. Αλεξάνδρου. Σε ένα ανακαινισμένο μουσείο-κόσμημα\, θα θαυμάσουμε μοναδικά ευρήματα\, όπως η χρυσή λάρνακα με το αστέρι της Μακεδονίας\, τα βασιλικά στεφάνια και τα περίτεχνα κτερίσματα που μαρτυρούν την ισχύ της αρχαίας Μακεδονίας. \nΒέρμιο με δάση και αλπικά τοπία\nTο όρος Βέρμιο είναι γνωστό για τα απέραντα δάση από οξιές και ως βιότοπος της καφέ αρκούδας. Εδώ θα έχουμε την ευκαιρία να περπατήσουμε σε βατούς χωματόδρομους\, να παρατηρήσουμε και να φωτογραφίσουμε δασικά είδη πουλιών\, όπως δρυοκολάπτες και γερακαετούς\, και να απολαύσουμε τη γαλήνη της φύσης. Λόγω της άνοιξης\, το βουνό είναι γεμάτο αγριολούλουδα και θα μάθουμε περισσότερα για τη χλωρίδα του. Θα καταλήξουμε στα Τρία-Πέντε Πηγάδια\, μια αλπική περιοχή που προσφέρει μοναδική θέα και τοπίο. \nΝάουσα – Πόλη ηρωισμού και παράδοσης\nΗ εκδρομή θα αφιερώσει χρόνο στην ιστορική πόλη της Νάουσας\, γνωστής για τη θυσία των γυναικών στον καταρράκτη της Αράπιτσας κατά την Επανάσταση του 1821. Θα περιηγηθούμε στα γραφικά σοκάκια της\, θα ανακαλύψουμε τη μοναδική μακεδονίτικη αρχιτεκτονική\, θα επισκεφθούμε μουσεία αλλά και το άλσος του Αγίου Νικολάου\, από τα ομορφότερα φυσικά πάρκα της χώρας μας. \nΆλσος Αγίου Νικολάου – Η φύση στα καλύτερά της\nΟι birdwatchers και όχι μόνο θα ξεκινούν την ημέρα τους το πρωί στο Άλσος Αγίου Νικολάου\, έναν καταπράσινο παράδεισο με τρεχούμενα νερά και αιωνόβια πλατάνια\, ιδανικό για φωτογραφία και παρατήρηση άγριων πουλιών. Δρυοκολάπτες\, αρπακτικά\, νεροκότσυφες\, συκοφάγοι\, κούκοι\, τσαλαπετεινοί και μαύροι πελαργοί είναι μερικά από τα δεκάδες είδη που έχουν παρατηρηθεί εδώ. Ο χώρος έχει άνετα μονοπάτια και γραφικά γεφυράκια και προσφέρεται και για ένα χαλαρό περπάτημα. \nΣχολή Αριστοτέλη\nΘα επισκεφθούμε τη Σχολή του Αριστοτέλη\, όπου ο φιλόσοφος δίδαξε το Μέγα Αλέξανδρο. Στο χώρο θα ακολουθήσουμε τα βήματα του νεαρού βασιλιά\, αλλά θα επισκεφθούμε και τους γειτονικούς μακεδονικούς τάφους στη Μίεζα. \nΞινόμαυρο και οινογευσία\nΗ εκδρομή μας δε θα μπορούσε να ολοκληρωθεί χωρίς μια επίσκεψη στους φημισμένους αμπελώνες της Νάουσας\, όπου καλλιεργείται η ποικιλία Ξινόμαυρο. Θα έχουμε την ευκαιρία να γνωρίσουμε τη διαδικασία παραγωγής του κρασιού και να απολαύσουμε μια οινική εμπειρία σε ένα από τα ιστορικά οινοποιεία της περιοχής. \n  \nΙστορία\, φύση και γεύσεις μας περιμένουν σε αυτήν την εκδρομή!\nΜην τη χάσετε!\nΑξιοποιήστε την Πρωτομαγιά σας! \nΓια περισσότερες πληροφορίες στείλτε μας μήνυμα στο greenwayexperience1@gmail.com.\nΔηλώστε το ενδιαφέρον σας στη ΦΟΡΜΑ! \nΑΝΑΛΥΤΙΚΟ ΠΡΟΓΡΑΜΜΑ ΕΚΔΡΟΜΗΣ (PDF) \n \n 
URL:https://www.wild-anima.gr/event/vergina-vermio-naousa-1-4-maiou-me-tin-greenway-experience-kai-tin-anima/
ATTACH;FMTTYPE=image/png:https://www.wild-anima.gr/wp-content/uploads/2025/04/ΑΦΙΣΣΑ-ΜΙΑ.png
END:VEVENT
END:VCALENDAR